BEGIN:VCALENDAR
VERSION:2.0
PRODID:-//Voiture Locale 99 - ECPv6.15.20//NONSGML v1.0//EN
CALSCALE:GREGORIAN
METHOD:PUBLISH
X-ORIGINAL-URL:http://www.voiture-99.com
X-WR-CALDESC:Events for Voiture Locale 99
REFRESH-INTERVAL;VALUE=DURATION:PT1H
X-Robots-Tag:noindex
X-PUBLISHED-TTL:PT1H
BEGIN:VTIMEZONE
TZID:America/Los_Angeles
BEGIN:DAYLIGHT
TZOFFSETFROM:-0800
TZOFFSETTO:-0700
TZNAME:PDT
DTSTART:20250309T100000
END:DAYLIGHT
BEGIN:STANDARD
TZOFFSETFROM:-0700
TZOFFSETTO:-0800
TZNAME:PST
DTSTART:20251102T090000
END:STANDARD
BEGIN:DAYLIGHT
TZOFFSETFROM:-0800
TZOFFSETTO:-0700
TZNAME:PDT
DTSTART:20260308T100000
END:DAYLIGHT
BEGIN:STANDARD
TZOFFSETFROM:-0700
TZOFFSETTO:-0800
TZNAME:PST
DTSTART:20261101T090000
END:STANDARD
BEGIN:DAYLIGHT
TZOFFSETFROM:-0800
TZOFFSETTO:-0700
TZNAME:PDT
DTSTART:20270314T100000
END:DAYLIGHT
BEGIN:STANDARD
TZOFFSETFROM:-0700
TZOFFSETTO:-0800
TZNAME:PST
DTSTART:20271107T090000
END:STANDARD
END:VTIMEZONE
BEGIN:VEVENT
DTSTART;VALUE=DATE:20260308
DTEND;VALUE=DATE:20260309
DTSTAMP:20260424T050014
CREATED:20240227T075939Z
LAST-MODIFIED:20260103T215705Z
UID:9012-1772928000-1773014399@www.voiture-99.com
SUMMARY:Daylight Saving Time begins
DESCRIPTION:Daylight Saving Time begins on Sunday\, March 8\, 2026\, at 2:00 A.M. On Saturday night\, clocks are set forward 1 hour (i.e.\, losing one hour) to “spring forward.” Sunrise and sunset will be about 1 hour later on March 10\, 2024\, than the day before. There will be more light in the evening.
URL:http://www.voiture-99.com/event/9012/
END:VEVENT
BEGIN:VEVENT
DTSTART;TZID=America/Los_Angeles:20260314T113000
DTEND;TZID=America/Los_Angeles:20260314T150000
DTSTAMP:20260424T050014
CREATED:20260316T023517Z
LAST-MODIFIED:20260316T023517Z
UID:10960-1773487800-1773500400@www.voiture-99.com
SUMMARY:Saturday at the Chateau - No kitchen available today
DESCRIPTION:Stop by for lunch or a drink or just say “Hi”!\nThe Chateau will be open 11:30 – 3:00 pm.
URL:http://www.voiture-99.com/event/saturday-at-the-chateau-no-kitchen-available-today/
END:VEVENT
BEGIN:VEVENT
DTSTART;TZID=America/Los_Angeles:20260319T073000
DTEND;TZID=America/Los_Angeles:20260319T100000
DTSTAMP:20260424T050014
CREATED:20240105T000203Z
LAST-MODIFIED:20260315T022733Z
UID:8859-1773905400-1773914400@www.voiture-99.com
SUMMARY:Member and Guest Coffee and Donuts
DESCRIPTION:Join other members for Coffee and Donuts and light conversation.\nDonations requested and appreciated.\n 
URL:http://www.voiture-99.com/event/member-and-guest-coffee-and-donuts-174/
LOCATION:Voiture 99 Boxcar Room\, 2809 NE 78th Street\, Vancouver\, WA\, 98665-0637\, United States
END:VEVENT
BEGIN:VEVENT
DTSTART;TZID=America/Los_Angeles:20260320T063000
DTEND;TZID=America/Los_Angeles:20260320T090000
DTSTAMP:20260424T050014
CREATED:20220902T031810Z
LAST-MODIFIED:20260315T023620Z
UID:7471-1773988200-1773997200@www.voiture-99.com
SUMMARY:Friday morning breakfast
DESCRIPTION:Start your Friday off right.  \nCome to the Chateau for Friday breakfast with other members and friends.  \nAll members and invited guests are welcome. \n————————————————————————
URL:http://www.voiture-99.com/event/friday-morning-breakfast-72/
LOCATION:Voiture 99 Chateau\, 2809 NE 78th Street\, Vancouver\, WA\, 98665-0637\, United States
END:VEVENT
BEGIN:VEVENT
DTSTART;TZID=America/Los_Angeles:20260321T113000
DTEND;TZID=America/Los_Angeles:20260321T150000
DTSTAMP:20260424T050014
CREATED:20221123T023838Z
LAST-MODIFIED:20260316T023951Z
UID:7698-1774092600-1774105200@www.voiture-99.com
SUMMARY:Saturday at the Chateau
DESCRIPTION:Stop by for lunch or a drink or just say “Hi”!\nThe Chateau will be open 11:30 – 3:00 pm.
URL:http://www.voiture-99.com/event/saturday-at-the-chateau-114/
LOCATION:Voiture 99 Chateau\, 2809 NE 78th Street\, Vancouver\, WA\, 98665-0637\, United States
END:VEVENT
BEGIN:VEVENT
DTSTART;TZID=America/Los_Angeles:20260326T073000
DTEND;TZID=America/Los_Angeles:20260326T100000
DTSTAMP:20260424T050015
CREATED:20221123T022528Z
LAST-MODIFIED:20260315T023130Z
UID:7680-1774510200-1774519200@www.voiture-99.com
SUMMARY:Member and Guest Coffee and Donuts
DESCRIPTION:Join other members for Coffee and Donuts and light conversation. \nDonations requested and appreciated.
URL:http://www.voiture-99.com/event/member-and-guest-coffee-and-donuts-163/
LOCATION:Voiture 99 Boxcar Room\, 2809 NE 78th Street\, Vancouver\, WA\, 98665-0637\, United States
END:VEVENT
BEGIN:VEVENT
DTSTART;TZID=America/Los_Angeles:20260327T063000
DTEND;TZID=America/Los_Angeles:20260327T090000
DTSTAMP:20260424T050015
CREATED:20230101T022534Z
LAST-MODIFIED:20260315T024858Z
UID:7821-1774593000-1774602000@www.voiture-99.com
SUMMARY:Friday Morning Breakfast
DESCRIPTION:Start your Friday off right. \nCome to the Chateau for Friday breakfast with other members and friends. \nAll members and invited guests are welcome. \n———————————————————————— \n 
URL:http://www.voiture-99.com/event/friday-morning-breakfast-86/
LOCATION:Voiture 99 Boxcar Room\, 2809 NE 78th Street\, Vancouver\, WA\, 98665-0637\, United States
END:VEVENT
BEGIN:VEVENT
DTSTART;TZID=America/Los_Angeles:20260328T113000
DTEND;TZID=America/Los_Angeles:20260328T150000
DTSTAMP:20260424T050015
CREATED:20221001T221522Z
LAST-MODIFIED:20260316T022337Z
UID:7595-1774697400-1774710000@www.voiture-99.com
SUMMARY:Saturday at the Chateau
DESCRIPTION:Stop by for lunch or a drink or just say “Hi”!\nThe Chateau will be open 11:30 – 3:00 pm.
URL:http://www.voiture-99.com/event/saturday-at-the-chateau-111/
LOCATION:Voiture 99 Chateau\, 2809 NE 78th Street\, Vancouver\, WA\, 98665-0637\, United States
END:VEVENT
END:VCALENDAR