BEGIN:VCALENDAR
VERSION:2.0
PRODID:-//Voiture Locale 99 - ECPv6.15.20//NONSGML v1.0//EN
CALSCALE:GREGORIAN
METHOD:PUBLISH
X-WR-CALNAME:Voiture Locale 99
X-ORIGINAL-URL:http://www.voiture-99.com
X-WR-CALDESC:Events for Voiture Locale 99
REFRESH-INTERVAL;VALUE=DURATION:PT1H
X-Robots-Tag:noindex
X-PUBLISHED-TTL:PT1H
BEGIN:VTIMEZONE
TZID:America/Los_Angeles
BEGIN:DAYLIGHT
TZOFFSETFROM:-0800
TZOFFSETTO:-0700
TZNAME:PDT
DTSTART:20220313T100000
END:DAYLIGHT
BEGIN:STANDARD
TZOFFSETFROM:-0700
TZOFFSETTO:-0800
TZNAME:PST
DTSTART:20221106T090000
END:STANDARD
BEGIN:DAYLIGHT
TZOFFSETFROM:-0800
TZOFFSETTO:-0700
TZNAME:PDT
DTSTART:20230312T100000
END:DAYLIGHT
BEGIN:STANDARD
TZOFFSETFROM:-0700
TZOFFSETTO:-0800
TZNAME:PST
DTSTART:20231105T090000
END:STANDARD
BEGIN:DAYLIGHT
TZOFFSETFROM:-0800
TZOFFSETTO:-0700
TZNAME:PDT
DTSTART:20240310T100000
END:DAYLIGHT
BEGIN:STANDARD
TZOFFSETFROM:-0700
TZOFFSETTO:-0800
TZNAME:PST
DTSTART:20241103T090000
END:STANDARD
END:VTIMEZONE
BEGIN:VEVENT
DTSTART;TZID=America/Los_Angeles:20231005T113000
DTEND;TZID=America/Los_Angeles:20231005T150000
DTSTAMP:20260423T024914
CREATED:20221231T041942Z
LAST-MODIFIED:20230926T032303Z
UID:7799-1696505400-1696518000@www.voiture-99.com
SUMMARY:Chateau Open for Lunch
DESCRIPTION:
URL:http://www.voiture-99.com/event/chateau-open-for-lunch-59/
LOCATION:Voiture 99 Chateau\, 2809 NE 78th Street\, Vancouver\, WA\, 98665-0637\, United States
END:VEVENT
BEGIN:VEVENT
DTSTART;TZID=America/Los_Angeles:20231004T180000
DTEND;TZID=America/Los_Angeles:20231004T193000
DTSTAMP:20260423T024914
CREATED:20231025T012553Z
LAST-MODIFIED:20240817T182608Z
UID:8725-1696442400-1696447800@www.voiture-99.com
SUMMARY:Promenade
DESCRIPTION:Reminder to all.  Our new night for Promenade is the first Wednesday of the month.  Dinner is served at 5 pm and Promenade follows.  We have some important information to share and discuss.  Please be patient as there are limited volunteers to serve you. \nWe’re all looking forward to seeing you there. \nStay safe\, stay healthy. \n 
URL:http://www.voiture-99.com/event/november-promenade/
LOCATION:OR
END:VEVENT
BEGIN:VEVENT
DTSTART;TZID=America/Los_Angeles:20231004T113000
DTEND;TZID=America/Los_Angeles:20231004T150000
DTSTAMP:20260423T024914
CREATED:20230321T065312Z
LAST-MODIFIED:20230926T024621Z
UID:8115-1696419000-1696431600@www.voiture-99.com
SUMMARY:Chateau Open for Lunch
DESCRIPTION:
URL:http://www.voiture-99.com/event/chateau-open-for-lunch-72/
LOCATION:Voiture 99 Chateau\, 2809 NE 78th Street\, Vancouver\, WA\, 98665-0637\, United States
END:VEVENT
BEGIN:VEVENT
DTSTART;VALUE=DATE:20230930
DTEND;VALUE=DATE:20231001
DTSTAMP:20260423T024914
CREATED:20230920T083941Z
LAST-MODIFIED:20230920T083941Z
UID:8533-1696032000-1696118399@www.voiture-99.com
SUMMARY:Chateau Closed
DESCRIPTION:
URL:http://www.voiture-99.com/event/chateau-closed-3/
LOCATION:OR
END:VEVENT
BEGIN:VEVENT
DTSTART;TZID=America/Los_Angeles:20230929T090000
DTEND;TZID=America/Los_Angeles:20230929T150000
DTSTAMP:20260423T024914
CREATED:20230428T061151Z
LAST-MODIFIED:20230722T062815Z
UID:8208-1695978000-1695999600@www.voiture-99.com
SUMMARY:CCVAC Annual Stand Down
DESCRIPTION:Just a reminder….our Stand Down is coming up on September 29th. It will be at the Armed Forces Reserve Center this year. There will be more resources than ever before. Be sure you don’t miss it. We will be posting more information as we get closer. If you want to be a provider\, email standdownproviders@ccvac.net.
URL:http://www.voiture-99.com/event/annual-stand-down/
LOCATION:Armed Forces Reserve Center\, 15005 NE 65th Street \, Vancouver\, WA\, United States
END:VEVENT
BEGIN:VEVENT
DTSTART;VALUE=DATE:20230929
DTEND;VALUE=DATE:20230930
DTSTAMP:20260423T024914
CREATED:20221231T041303Z
LAST-MODIFIED:20230920T105640Z
UID:7793-1695945600-1696031999@www.voiture-99.com
SUMMARY:Chateau Temporarily Closed for Lunch
DESCRIPTION:
URL:http://www.voiture-99.com/event/chateau-open-for-lunch-56/
LOCATION:OR
END:VEVENT
BEGIN:VEVENT
DTSTART;TZID=America/Los_Angeles:20230928T180000
DTEND;TZID=America/Los_Angeles:20230928T200000
DTSTAMP:20260423T024914
CREATED:20230914T033217Z
LAST-MODIFIED:20230914T033217Z
UID:8522-1695924000-1695931200@www.voiture-99.com
SUMMARY:All the Rage: How American Politics Boiled Over
DESCRIPTION:Name-calling\, shouting matches\, cutting off relatives\, and even violence born of intense disagreements—there is bipartisan agreement that the current state of politics in the United States is troubling. How did we get here\, and what can we\, as a society and as individuals\, do about it? \nProfessor Steven Stehr investigates the roots and consequences of the dysfunction that characterizes the current state of politics in America. Stehr leads a conversation that asks\, how did our political spaces become war zones? To what extent is the lack of civility and policy gridlock driven by long-term trends in American society? Is contemporary America somehow different than the way it was in the past? Was there ever a “golden age” of bipartisanship and civility in the United States? \nUsing historical examples and contemporary cases\, Stehr shows audiences how the erosion of civil discourse harms democracy\, and what can be done to combat it. \nSeating is limited so you must reserve a seat.  Click HERE to reserve your seat. \nSteven Stehr (he/him) is the Sam Reed Distinguished Professor in Civic Education and Public Civility at Washington State University. He earned his PhD in political science from the University of California\, Berkeley. His work has been supported by the National Science Foundation\, the National Research Council\, National Academy of Science\, and the Century Foundation. \nThis talk is presented in partnership with The Thomas S. Foley Institute for Public Policy and Public Service\, which educates citizens across the state about democratic institutions and public affairs\, and is based at Washington State University. For more information\, visit The Foley Institute’s website.
URL:http://www.voiture-99.com/event/all-the-rage-how-american-politics-boiled-over/
LOCATION:Red Cross Building\, 605 East Barnes Street\, Vancouver\, WA\, 98661\, United States
END:VEVENT
BEGIN:VEVENT
DTSTART;VALUE=DATE:20230928
DTEND;VALUE=DATE:20230929
DTSTAMP:20260423T024914
CREATED:20230321T065729Z
LAST-MODIFIED:20230920T105932Z
UID:8119-1695859200-1695945599@www.voiture-99.com
SUMMARY:Chateau Temporarily Closed for Lunch
DESCRIPTION:
URL:http://www.voiture-99.com/event/chateau-open-for-lunch-74/
LOCATION:Voiture 99 Chateau\, 2809 NE 78th Street\, Vancouver\, WA\, 98665-0637\, United States
END:VEVENT
BEGIN:VEVENT
DTSTART;VALUE=DATE:20230927
DTEND;VALUE=DATE:20230928
DTSTAMP:20260423T024914
CREATED:20230321T065553Z
LAST-MODIFIED:20230920T105837Z
UID:8117-1695772800-1695859199@www.voiture-99.com
SUMMARY:Chateau Temporarily Closed for Lunch
DESCRIPTION:
URL:http://www.voiture-99.com/event/chateau-open-for-lunch-73/
LOCATION:Voiture 99 Chateau\, 2809 NE 78th Street\, Vancouver\, WA\, 98665-0637\, United States
END:VEVENT
BEGIN:VEVENT
DTSTART;VALUE=DATE:20230923
DTEND;VALUE=DATE:20230924
DTSTAMP:20260423T024914
CREATED:20230920T083746Z
LAST-MODIFIED:20230920T083811Z
UID:8531-1695427200-1695513599@www.voiture-99.com
SUMMARY:Chateau Closed
DESCRIPTION:
URL:http://www.voiture-99.com/event/chateau-closed-2/
LOCATION:OR
END:VEVENT
BEGIN:VEVENT
DTSTART;TZID=America/Los_Angeles:20230922T113000
DTEND;TZID=America/Los_Angeles:20230922T150000
DTSTAMP:20260423T024914
CREATED:20221123T022304Z
LAST-MODIFIED:20230920T083534Z
UID:7678-1695382200-1695394800@www.voiture-99.com
SUMMARY:Chateau Open for Lunch
DESCRIPTION:Chateau Open to the public for lunch.
URL:http://www.voiture-99.com/event/chateau-open-for-lunch-54/
LOCATION:Voiture 99 Chateau\, 2809 NE 78th Street\, Vancouver\, WA\, 98665-0637\, United States
END:VEVENT
BEGIN:VEVENT
DTSTART;TZID=America/Los_Angeles:20230921T113000
DTEND;TZID=America/Los_Angeles:20230921T150000
DTSTAMP:20260423T024914
CREATED:20221231T042757Z
LAST-MODIFIED:20230920T082323Z
UID:7809-1695295800-1695308400@www.voiture-99.com
SUMMARY:Chateau Open for Lunch
DESCRIPTION:Chateau Open to the public for lunch.
URL:http://www.voiture-99.com/event/chateau-open-for-lunch-64/
LOCATION:Voiture 99 Chateau\, 2809 NE 78th Street\, Vancouver\, WA\, 98665-0637\, United States
END:VEVENT
BEGIN:VEVENT
DTSTART;TZID=America/Los_Angeles:20230920T113000
DTEND;TZID=America/Los_Angeles:20230920T150000
DTSTAMP:20260423T024914
CREATED:20221123T022204Z
LAST-MODIFIED:20230920T082042Z
UID:7676-1695209400-1695222000@www.voiture-99.com
SUMMARY:Chateau Open for Lunch
DESCRIPTION:Chateau Open to the public for lunch.
URL:http://www.voiture-99.com/event/chateau-open-for-lunch-53/
LOCATION:Voiture 99 Chateau\, 2809 NE 78th Street\, Vancouver\, WA\, 98665-0637\, United States
END:VEVENT
BEGIN:VEVENT
DTSTART;TZID=America/Los_Angeles:20230916T090000
DTEND;TZID=America/Los_Angeles:20230916T160000
DTSTAMP:20260423T024914
CREATED:20230913T235440Z
LAST-MODIFIED:20230913T235440Z
UID:8520-1694854800-1694880000@www.voiture-99.com
SUMMARY:Fundraiser / car wash – Pointman Int’l & The Marine Corps League
DESCRIPTION:This is a reminder that this coming Saturday\, September 16th\, our Pointman Int’l. fund raiser/car wash is taking place at Fox’s Fuel\, 8600 SW Highway 99\, (next to U-Haul) from 9am until 4PM….The Marine Corps League will be assisting us.
URL:http://www.voiture-99.com/event/fundraiser-car-wash-pointman-intl-the-marine-corps-league/
LOCATION:Fox’s Car Wash / Fuel\, 8200 N.W. Highway 99\, Hazel Dell\, WA\, United States
END:VEVENT
BEGIN:VEVENT
DTSTART;TZID=America/Los_Angeles:20230915T110000
DTEND;TZID=America/Los_Angeles:20230915T123000
DTSTAMP:20260423T024914
CREATED:20230722T044320Z
LAST-MODIFIED:20230729T031323Z
UID:8430-1694775600-1694781000@www.voiture-99.com
SUMMARY:POW/MIA Remembrance
DESCRIPTION:
URL:http://www.voiture-99.com/event/pow-mia-remembrance/
LOCATION:Armed Forces Reserve Center\, 15005 NE 65th Street \, Vancouver\, WA\, United States
CATEGORIES:Americanism,Community Event,POW-MIA,Remembrance and Appreciation
END:VEVENT
BEGIN:VEVENT
DTSTART;VALUE=DATE:20230912
DTEND;VALUE=DATE:20230917
DTSTAMP:20260423T024914
CREATED:20230801T182848Z
LAST-MODIFIED:20230801T182848Z
UID:8479-1694476800-1694908799@www.voiture-99.com
SUMMARY:104th Promenade Nationale
DESCRIPTION:Click HERE for more information on the National website\nSeptember 12-16\, 2023 \nKalahari Resort\, Sandusky\, OH \n  \nTRANSPORTATION TUESDAY – SATURDAY FROM AIRPORT TO HOTEL PLEASE CONTACT \nHAROLD WADE \n937-849-0701 \n \nTHE KALAHARI ONLY HAS 4 MOTORIZED SCOOTERS FOR RENT IT IS A FIRST COME FIRST SERVE BASES.  ONCE THESE ARE RENTED BELOW IS A COMPANY THAT DOES RENT THEM \n ROCKING MOBILITY 216-356-6984 \nPLEASE LET THEM KNOW YOUR WITH THE 40/8 THE MORE WE  RENT THE BETTER PRICING WE CAN GET
URL:http://www.voiture-99.com/event/104th-promenade-nationale/
LOCATION:Kalahari Resort\, 7000 Kalahari Drive\, Sandusky\, OH\, United States
END:VEVENT
BEGIN:VEVENT
DTSTART;TZID=America/Los_Angeles:20230911T090000
DTEND;TZID=America/Los_Angeles:20230911T103000
DTSTAMP:20260423T024914
CREATED:20230722T035926Z
LAST-MODIFIED:20230805T052612Z
UID:8423-1694422800-1694428200@www.voiture-99.com
SUMMARY:Patriots Day Ceremony
DESCRIPTION:
URL:http://www.voiture-99.com/event/patriots-day-ceremony-2/
LOCATION:Vancouver City Hall\, 415 W. 6th Street \, Vancouver \, WA\, 98660\, United States
END:VEVENT
BEGIN:VEVENT
DTSTART;VALUE=DATE:20230904
DTEND;VALUE=DATE:20230905
DTSTAMP:20260423T024914
CREATED:20230428T061935Z
LAST-MODIFIED:20230730T012054Z
UID:8210-1693785600-1693871999@www.voiture-99.com
SUMMARY:40et8 Annual Labor Day Car show
DESCRIPTION:The 40et8 Annual Labor Day Car show will take place on Monday September 4\, 2023 at the 40et8. There will be music\, food\, and fun.
URL:http://www.voiture-99.com/event/40et8-annual-labor-day-car-show/
LOCATION:Voiture 99 Chateau\, 2809 NE 78th Street\, Vancouver\, WA\, 98665-0637\, United States
END:VEVENT
BEGIN:VEVENT
DTSTART;TZID=America/Los_Angeles:20230901T110000
DTEND;TZID=America/Los_Angeles:20230901T140000
DTSTAMP:20260423T024914
CREATED:20230321T065027Z
LAST-MODIFIED:20230809T194459Z
UID:8111-1693566000-1693576800@www.voiture-99.com
SUMMARY:Chateau open to the public for lunch.
DESCRIPTION:
URL:http://www.voiture-99.com/event/chateau-open-for-lunch-70/
LOCATION:Voiture 99 Chateau\, 2809 NE 78th Street\, Vancouver\, WA\, 98665-0637\, United States
END:VEVENT
BEGIN:VEVENT
DTSTART;TZID=America/Los_Angeles:20230831T113000
DTEND;TZID=America/Los_Angeles:20230831T150000
DTSTAMP:20260423T024914
CREATED:20221001T204815Z
LAST-MODIFIED:20230809T193656Z
UID:7560-1693481400-1693494000@www.voiture-99.com
SUMMARY:Chateau open to the public for lunch.
DESCRIPTION:Chateau open to the public for lunch.
URL:http://www.voiture-99.com/event/chateau-open-for-lunch-45/
LOCATION:Voiture 99 Chateau\, 2809 NE 78th Street\, Vancouver\, WA\, 98665-0637\, United States
END:VEVENT
BEGIN:VEVENT
DTSTART;TZID=America/Los_Angeles:20230830T113000
DTEND;TZID=America/Los_Angeles:20230830T150000
DTSTAMP:20260423T024914
CREATED:20221001T204644Z
LAST-MODIFIED:20230809T193603Z
UID:7558-1693395000-1693407600@www.voiture-99.com
SUMMARY:Chateau open to the public for lunch.
DESCRIPTION:Chateau Open to the public for lunch.
URL:http://www.voiture-99.com/event/chateau-open-for-lunch-44/
LOCATION:Voiture 99 Chateau\, 2809 NE 78th Street\, Vancouver\, WA\, 98665-0637\, United States
END:VEVENT
BEGIN:VEVENT
DTSTART;TZID=America/Los_Angeles:20230825T113000
DTEND;TZID=America/Los_Angeles:20230825T150000
DTSTAMP:20260423T024914
CREATED:20221231T042106Z
LAST-MODIFIED:20230809T173754Z
UID:7801-1692963000-1692975600@www.voiture-99.com
SUMMARY:Chateau open to the public for lunch.
DESCRIPTION:Chateau open to the public for lunch.
URL:http://www.voiture-99.com/event/chateau-open-for-lunch-60/
LOCATION:Voiture 99 Chateau\, 2809 NE 78th Street\, Vancouver\, WA\, 98665-0637\, United States
END:VEVENT
BEGIN:VEVENT
DTSTART;TZID=America/Los_Angeles:20230824T113000
DTEND;TZID=America/Los_Angeles:20230824T150000
DTSTAMP:20260423T024914
CREATED:20230321T065150Z
LAST-MODIFIED:20230809T173713Z
UID:8113-1692876600-1692889200@www.voiture-99.com
SUMMARY:Chateau Open for Lunch
DESCRIPTION:
URL:http://www.voiture-99.com/event/chateau-open-for-lunch-71/
LOCATION:Voiture 99 Chateau\, 2809 NE 78th Street\, Vancouver\, WA\, 98665-0637\, United States
END:VEVENT
BEGIN:VEVENT
DTSTART;TZID=America/Los_Angeles:20230823T150000
DTEND;TZID=America/Los_Angeles:20230823T200000
DTSTAMP:20260423T024914
CREATED:20230807T225430Z
LAST-MODIFIED:20230807T230008Z
UID:8486-1692802800-1692820800@www.voiture-99.com
SUMMARY:Lewis and Clark Young Marines Fundraising Day
DESCRIPTION:Our primary source of income is fundraising. Our amazing Young Marine families work very hard supporting our different Unit fundraisers. Funds from our fundraisers pay for our encampments\, bus maintenance and unit equipment.\nLewis & Clark Young Marines is a 501(c)3 non-profit organization.\nFor more information visit us at https://lcym.org/\n 
URL:http://www.voiture-99.com/event/lewis-and-clark-young-marines-fundraising-day/
LOCATION:K & M Drive Inn\, 3414 NE 3RD AVE\, Camas\, WA\, United States
END:VEVENT
BEGIN:VEVENT
DTSTART;TZID=America/Los_Angeles:20230823T113000
DTEND;TZID=America/Los_Angeles:20230823T150000
DTSTAMP:20260423T024914
CREATED:20230321T064137Z
LAST-MODIFIED:20230809T173606Z
UID:8101-1692790200-1692802800@www.voiture-99.com
SUMMARY:Chateau Open for Lunch
DESCRIPTION:
URL:http://www.voiture-99.com/event/chateau-open-for-lunch-65/
LOCATION:Voiture 99 Chateau\, 2809 NE 78th Street\, Vancouver\, WA\, 98665-0637\, United States
END:VEVENT
BEGIN:VEVENT
DTSTART;TZID=America/Los_Angeles:20230818T113000
DTEND;TZID=America/Los_Angeles:20230818T150000
DTSTAMP:20260423T024914
CREATED:20221231T042633Z
LAST-MODIFIED:20230808T224203Z
UID:7807-1692358200-1692370800@www.voiture-99.com
SUMMARY:Chateau Open for Lunch
DESCRIPTION:
URL:http://www.voiture-99.com/event/chateau-open-for-lunch-63/
LOCATION:Voiture 99 Chateau\, 2809 NE 78th Street\, Vancouver\, WA\, 98665-0637\, United States
END:VEVENT
BEGIN:VEVENT
DTSTART;TZID=America/Los_Angeles:20230817T113000
DTEND;TZID=America/Los_Angeles:20230817T150000
DTSTAMP:20260423T024914
CREATED:20221231T041739Z
LAST-MODIFIED:20230808T224122Z
UID:7797-1692271800-1692284400@www.voiture-99.com
SUMMARY:Chateau Open for Lunch
DESCRIPTION:
URL:http://www.voiture-99.com/event/chateau-open-for-lunch-58/
LOCATION:Voiture 99 Chateau\, 2809 NE 78th Street\, Vancouver\, WA\, 98665-0637\, United States
END:VEVENT
BEGIN:VEVENT
DTSTART;TZID=America/Los_Angeles:20230816T180000
DTEND;TZID=America/Los_Angeles:20230816T193000
DTSTAMP:20260423T024914
CREATED:20230815T040257Z
LAST-MODIFIED:20230815T040257Z
UID:8500-1692208800-1692214200@www.voiture-99.com
SUMMARY:Voiture 99 Cheminot
DESCRIPTION:The doors to the lounge will be open at 4:30 PM. Dinner will be served at 5:00 PM. The Cheminot will follow at 6:00 PM.  We’re all looking forward to seeing you there. \nStay safe\, stay healthy. \nYour 2023 annual membership is due. If you have not renewed your dues yet for 2023\, you may do so when you sign in. Your annual dues can be paid by cash\, check\, money order or master/visa card.
URL:http://www.voiture-99.com/event/voiture-99-cheminot/
LOCATION:Voiture 99 Chateau\, 2809 NE 78th Street\, Vancouver\, WA\, 98665-0637\, United States
END:VEVENT
BEGIN:VEVENT
DTSTART;TZID=America/Los_Angeles:20230816T113000
DTEND;TZID=America/Los_Angeles:20230816T150000
DTSTAMP:20260423T024914
CREATED:20221231T041134Z
LAST-MODIFIED:20230808T224017Z
UID:7791-1692185400-1692198000@www.voiture-99.com
SUMMARY:Chateau open to the public for lunch.
DESCRIPTION:Chateau open to the public for lunch.
URL:http://www.voiture-99.com/event/chateau-open-for-lunch-55/
LOCATION:Voiture 99 Chateau\, 2809 NE 78th Street\, Vancouver\, WA\, 98665-0637\, United States
END:VEVENT
BEGIN:VEVENT
DTSTART;TZID=America/Los_Angeles:20230815T180000
DTEND;TZID=America/Los_Angeles:20230815T193000
DTSTAMP:20260423T024914
CREATED:20220606T143612Z
LAST-MODIFIED:20230815T035822Z
UID:7173-1692122400-1692127800@www.voiture-99.com
SUMMARY:Voiture 99 Cheminot - Due to the hot weather will be on WEDNESDAY EVENING NOT TUESDAY EVENING.
DESCRIPTION:Due to the hot weather\, Chef Jon and Chef Todd have conferred and Cheminot will be on WEDNESDAY EVENING NOT TUESDAY EVENING.  Same time dinner at 5pm and Meeting at 6pm.
URL:http://www.voiture-99.com/event/voiture-99-cheminot-cabane-99-cheminot-41/
LOCATION:Voiture 99 Chateau\, 2809 NE 78th Street\, Vancouver\, WA\, 98665-0637\, United States
END:VEVENT
END:VCALENDAR