BEGIN:VCALENDAR
VERSION:2.0
PRODID:-//Voiture Locale 99 - ECPv6.15.20//NONSGML v1.0//EN
CALSCALE:GREGORIAN
METHOD:PUBLISH
X-WR-CALNAME:Voiture Locale 99
X-ORIGINAL-URL:http://www.voiture-99.com
X-WR-CALDESC:Events for Voiture Locale 99
REFRESH-INTERVAL;VALUE=DURATION:PT1H
X-Robots-Tag:noindex
X-PUBLISHED-TTL:PT1H
BEGIN:VTIMEZONE
TZID:America/Los_Angeles
BEGIN:DAYLIGHT
TZOFFSETFROM:-0800
TZOFFSETTO:-0700
TZNAME:PDT
DTSTART:20220313T100000
END:DAYLIGHT
BEGIN:STANDARD
TZOFFSETFROM:-0700
TZOFFSETTO:-0800
TZNAME:PST
DTSTART:20221106T090000
END:STANDARD
BEGIN:DAYLIGHT
TZOFFSETFROM:-0800
TZOFFSETTO:-0700
TZNAME:PDT
DTSTART:20230312T100000
END:DAYLIGHT
BEGIN:STANDARD
TZOFFSETFROM:-0700
TZOFFSETTO:-0800
TZNAME:PST
DTSTART:20231105T090000
END:STANDARD
BEGIN:DAYLIGHT
TZOFFSETFROM:-0800
TZOFFSETTO:-0700
TZNAME:PDT
DTSTART:20240310T100000
END:DAYLIGHT
BEGIN:STANDARD
TZOFFSETFROM:-0700
TZOFFSETTO:-0800
TZNAME:PST
DTSTART:20241103T090000
END:STANDARD
END:VTIMEZONE
BEGIN:VEVENT
DTSTART;TZID=America/Los_Angeles:20231110T113000
DTEND;TZID=America/Los_Angeles:20231110T150000
DTSTAMP:20260422T130708
CREATED:20220811T004836Z
LAST-MODIFIED:20231101T035048Z
UID:7389-1699615800-1699628400@www.voiture-99.com
SUMMARY:Chateau Open to the public for Lunch
DESCRIPTION:
URL:http://www.voiture-99.com/event/chateau-open-for-lunch-9/
LOCATION:Voiture 99 Chateau\, 2809 NE 78th Street\, Vancouver\, WA\, 98665-0637\, United States
END:VEVENT
BEGIN:VEVENT
DTSTART;TZID=America/Los_Angeles:20231109T113000
DTEND;TZID=America/Los_Angeles:20231109T150000
DTSTAMP:20260422T130708
CREATED:20220811T005105Z
LAST-MODIFIED:20231101T034903Z
UID:7393-1699529400-1699542000@www.voiture-99.com
SUMMARY:Chateau Open to the public for Lunch
DESCRIPTION:
URL:http://www.voiture-99.com/event/chateau-open-for-lunch-26/
LOCATION:Voiture 99 Chateau\, 2809 NE 78th Street\, Vancouver\, WA\, 98665-0637\, United States
END:VEVENT
BEGIN:VEVENT
DTSTART;TZID=America/Los_Angeles:20231109T070000
DTEND;TZID=America/Los_Angeles:20231109T090000
DTSTAMP:20260422T130708
CREATED:20230720T210443Z
LAST-MODIFIED:20230720T210443Z
UID:8388-1699513200-1699520400@www.voiture-99.com
SUMMARY:Clark County Prayer Breakfast
DESCRIPTION:The Clark County Prayer breakfast is on November 9th\, Thursday\, 7am to 9am\, at the Hilton Hotel Ball Room; (downtown Vancouver) \nIt is semi-to formal dress\, expecting somewhere around 600 to 900 folks to attend. Guest speaker yet to be determined; Honored Citizen will be Ms. Dawn Rowe\, teacher\, Prairie Highschool. \nHonor Guard will be provided by Veterans of Foreign Wars. \nPurpose: to support\, honor\, encourage\, pray for: civic leaders\, law enforcement\, all 1st responders\, business leaders\, military and veterans\, along with their families. \nCost is $45. per seat. If a sponsor buys a table of ten (10) it is $40. per seat. If veterans come in dressed like a vet\, (or partially dressed like a vet) or with uniform on\, they are free.
URL:http://www.voiture-99.com/event/clark-county-prayer-breakfast-2/
LOCATION:Vancouver Hilton\, 301 West 6th Street\, Vancouver\, WA\, 98660\, United States
END:VEVENT
BEGIN:VEVENT
DTSTART;TZID=America/Los_Angeles:20231108T113000
DTEND;TZID=America/Los_Angeles:20231108T150000
DTSTAMP:20260422T130708
CREATED:20221123T022050Z
LAST-MODIFIED:20231101T034105Z
UID:7674-1699443000-1699455600@www.voiture-99.com
SUMMARY:Chateau Open to the public for Lunch
DESCRIPTION:
URL:http://www.voiture-99.com/event/chateau-open-for-lunch-52/
LOCATION:Voiture 99 Chateau\, 2809 NE 78th Street\, Vancouver\, WA\, 98665-0637\, United States
END:VEVENT
BEGIN:VEVENT
DTSTART;TZID=America/Los_Angeles:20231107T100000
DTEND;TZID=America/Los_Angeles:20231107T140000
DTSTAMP:20260422T130708
CREATED:20231011T032429Z
LAST-MODIFIED:20231011T032429Z
UID:8709-1699351200-1699365600@www.voiture-99.com
SUMMARY:Clark College Veterans Career and Resource Fair
DESCRIPTION:
URL:http://www.voiture-99.com/event/clark-college-veterans-career-and-resource-fair/
LOCATION:Clark College – Gaiser Hall\, 1933 Fort Vancouver Way\, Vancouver\, WA\, United States
CATEGORIES:Community Event,Community Service,Job Fair,Veterans Event
END:VEVENT
BEGIN:VEVENT
DTSTART;TZID=America/Los_Angeles:20231103T113000
DTEND;TZID=America/Los_Angeles:20231103T150000
DTSTAMP:20260422T130708
CREATED:20220606T123019Z
LAST-MODIFIED:20231101T023929Z
UID:7144-1699011000-1699023600@www.voiture-99.com
SUMMARY:Chateau Open to the public for Lunch
DESCRIPTION:
URL:http://www.voiture-99.com/event/chateau-open-for-lunch-17/
LOCATION:Voiture 99 Chateau\, 2809 NE 78th Street\, Vancouver\, WA\, 98665-0637\, United States
END:VEVENT
BEGIN:VEVENT
DTSTART;TZID=America/Los_Angeles:20231102T113000
DTEND;TZID=America/Los_Angeles:20231102T150000
DTSTAMP:20260422T130708
CREATED:20220606T131756Z
LAST-MODIFIED:20230926T045126Z
UID:7165-1698924600-1698937200@www.voiture-99.com
SUMMARY:Chateau Open to the public for Lunch
DESCRIPTION:
URL:http://www.voiture-99.com/event/saturday-at-the-chateau-93/
LOCATION:Voiture 99 Chateau\, 2809 NE 78th Street\, Vancouver\, WA\, 98665-0637\, United States
END:VEVENT
BEGIN:VEVENT
DTSTART;TZID=America/Los_Angeles:20231101T113000
DTEND;TZID=America/Los_Angeles:20231101T150000
DTSTAMP:20260422T130708
CREATED:20220707T221405Z
LAST-MODIFIED:20230926T044422Z
UID:7303-1698838200-1698850800@www.voiture-99.com
SUMMARY:Chateau Open to the public for Lunch
DESCRIPTION:
URL:http://www.voiture-99.com/event/saturday-at-the-chateau-97/
LOCATION:Voiture 99 Chateau\, 2809 NE 78th Street\, Vancouver\, WA\, 98665-0637\, United States
END:VEVENT
BEGIN:VEVENT
DTSTART;TZID=America/Los_Angeles:20231029T140000
DTEND;TZID=America/Los_Angeles:20231029T160000
DTSTAMP:20260422T130708
CREATED:20230929T032012Z
LAST-MODIFIED:20230929T032012Z
UID:8694-1698588000-1698595200@www.voiture-99.com
SUMMARY:Atomic Washington: Our Nuclear Past\, Present\, and Future
DESCRIPTION:The Historic Trust and Humanities Washington partner to present a discussion with Steve Olson as he reveals the many influences of nuclear materials on Washington State\, and the many ways in which our state has been a pioneer in the Atomic Age. The program is offered at no charge; however\, due to limited seating\, registration is required. \nRegister HERE \nEvent Location: Red Cross Building\, 605 Barnes Street\, Vancouver\, WA 98660 \nAt the center of every nuclear weapon in the United States is a small pit of radioactive material manufactured at a top-secret facility in Eastern Washington\, a facility which\ntoday remains the most radiologically contaminated site in the Western hemisphere. \nBut Washington State’s role in the nuclear era ranges far beyond construction\, operation\, and ongoing cleanup of the Hanford nuclear reservation. Today\, Washington has two operating\nnuclear reactors\, one of which provides us with ten percent of our electricity. Radioactive substances are used in our state to cure diseases\, build airplanes\, detect pollutants\, and power smoke detectors. Further\, Naval Base Kitsap has the largest stockpile of nuclear weapons deployed anywhere in the country. \nDrawing from history\, science\, and popular culture\, author Steve Olson reveals the many influences of nuclear materials in Washington State\, and the many ways in which our state has been a pioneer in the atomic age. \nSteve Olson (he/him) is a writer who most recently authored The Apocalypse Factory: Plutonium and the Making of the Atomic Age. His books have been nominated in several local and national book awards. Since 1979\, he has been a consultant writer for the National Academy of Sciences\, the President’s Council of Advisors on Science and Technology\, and other national scientific organizations. Raised in Eastern Washington\, Olson now lives in Seattle.
URL:http://www.voiture-99.com/event/atomic-washington-our-nuclear-past-present-and-future/
LOCATION:Red Cross Building\, 605 East Barnes Street\, Vancouver\, WA\, 98661\, United States
END:VEVENT
BEGIN:VEVENT
DTSTART;TZID=America/Los_Angeles:20231027T113000
DTEND;TZID=America/Los_Angeles:20231027T150000
DTSTAMP:20260422T130708
CREATED:20220707T221208Z
LAST-MODIFIED:20230926T041008Z
UID:7301-1698406200-1698418800@www.voiture-99.com
SUMMARY:Chateau Open to the public for Lunch
DESCRIPTION:
URL:http://www.voiture-99.com/event/saturday-at-the-chateau-96/
LOCATION:Voiture 99 Chateau\, 2809 NE 78th Street\, Vancouver\, WA\, 98665-0637\, United States
END:VEVENT
BEGIN:VEVENT
DTSTART;TZID=America/Los_Angeles:20231026T113000
DTEND;TZID=America/Los_Angeles:20231026T150000
DTSTAMP:20260422T130708
CREATED:20220908T144433Z
LAST-MODIFIED:20230926T040835Z
UID:7505-1698319800-1698332400@www.voiture-99.com
SUMMARY:Chateau Open to the public for Lunch
DESCRIPTION:
URL:http://www.voiture-99.com/event/chateau-open-for-lunch-34/
LOCATION:Voiture 99 Chateau\, 2809 NE 78th Street\, Vancouver\, WA\, 98665-0637\, United States
END:VEVENT
BEGIN:VEVENT
DTSTART;TZID=America/Los_Angeles:20231025T113000
DTEND;TZID=America/Los_Angeles:20231025T150000
DTSTAMP:20260422T130708
CREATED:20220707T221012Z
LAST-MODIFIED:20230926T040712Z
UID:7299-1698233400-1698246000@www.voiture-99.com
SUMMARY:Chateau Open to the public for Lunch
DESCRIPTION:
URL:http://www.voiture-99.com/event/saturday-at-the-chateau-95/
LOCATION:Voiture 99 Chateau\, 2809 NE 78th Street\, Vancouver\, WA\, 98665-0637\, United States
END:VEVENT
BEGIN:VEVENT
DTSTART;TZID=America/Los_Angeles:20231020T120000
DTEND;TZID=America/Los_Angeles:20231020T150000
DTSTAMP:20260422T130708
CREATED:20220707T220640Z
LAST-MODIFIED:20230926T040517Z
UID:7295-1697803200-1697814000@www.voiture-99.com
SUMMARY:Chateau Open to the public for Lunch
DESCRIPTION:
URL:http://www.voiture-99.com/event/saturday-at-the-chateau-94/
LOCATION:Voiture 99 Chateau\, 2809 NE 78th Street\, Vancouver\, WA\, 98665-0637\, United States
END:VEVENT
BEGIN:VEVENT
DTSTART;TZID=America/Los_Angeles:20231019T120000
DTEND;TZID=America/Los_Angeles:20231019T150000
DTSTAMP:20260422T130708
CREATED:20220811T003942Z
LAST-MODIFIED:20230926T040307Z
UID:7381-1697716800-1697727600@www.voiture-99.com
SUMMARY:Chateau Open to the public for Lunch
DESCRIPTION:
URL:http://www.voiture-99.com/event/saturday-at-the-chateau-98/
LOCATION:Voiture 99 Chateau\, 2809 NE 78th Street\, Vancouver\, WA\, 98665-0637\, United States
END:VEVENT
BEGIN:VEVENT
DTSTART;TZID=America/Los_Angeles:20231018T120000
DTEND;TZID=America/Los_Angeles:20231018T150000
DTSTAMP:20260422T130708
CREATED:20220811T004101Z
LAST-MODIFIED:20230926T040141Z
UID:7383-1697630400-1697641200@www.voiture-99.com
SUMMARY:Chateau Open to the public for Lunch
DESCRIPTION:
URL:http://www.voiture-99.com/event/saturday-at-the-chateau-99/
LOCATION:Voiture 99 Chateau\, 2809 NE 78th Street\, Vancouver\, WA\, 98665-0637\, United States
END:VEVENT
BEGIN:VEVENT
DTSTART;TZID=America/Los_Angeles:20231013T113000
DTEND;TZID=America/Los_Angeles:20231013T150000
DTSTAMP:20260422T130708
CREATED:20220811T005724Z
LAST-MODIFIED:20230926T035351Z
UID:7403-1697196600-1697209200@www.voiture-99.com
SUMMARY:Chateau Open to the public for Lunch
DESCRIPTION:
URL:http://www.voiture-99.com/event/chateau-open-for-lunch-31/
LOCATION:Voiture 99 Chateau\, 2809 NE 78th Street\, Vancouver\, WA\, 98665-0637\, United States
END:VEVENT
BEGIN:VEVENT
DTSTART;TZID=America/Los_Angeles:20231012T113000
DTEND;TZID=America/Los_Angeles:20231012T150000
DTSTAMP:20260422T130708
CREATED:20221001T203447Z
LAST-MODIFIED:20230926T034705Z
UID:7554-1697110200-1697122800@www.voiture-99.com
SUMMARY:Chateau Open to the public for Lunch
DESCRIPTION:
URL:http://www.voiture-99.com/event/chateau-open-for-lunch-42/
LOCATION:Voiture 99 Chateau\, 2809 NE 78th Street\, Vancouver\, WA\, 98665-0637\, United States
END:VEVENT
BEGIN:VEVENT
DTSTART;TZID=America/Los_Angeles:20231011T113000
DTEND;TZID=America/Los_Angeles:20231011T150000
DTSTAMP:20260422T130708
CREATED:20220915T014500Z
LAST-MODIFIED:20230926T033547Z
UID:7519-1697023800-1697036400@www.voiture-99.com
SUMMARY:Chateau Open to the public for Lunch
DESCRIPTION:
URL:http://www.voiture-99.com/event/chateau-open-for-lunch-36/
LOCATION:Voiture 99 Chateau\, 2809 NE 78th Street\, Vancouver\, WA\, 98665-0637\, United States
END:VEVENT
BEGIN:VEVENT
DTSTART;TZID=America/Los_Angeles:20231007T120000
DTEND;TZID=America/Los_Angeles:20231007T150000
DTSTAMP:20260422T130708
CREATED:20220902T033259Z
LAST-MODIFIED:20230926T031405Z
UID:7487-1696680000-1696690800@www.voiture-99.com
SUMMARY:Saturday at the Chateau
DESCRIPTION:
URL:http://www.voiture-99.com/event/saturday-at-the-chateau-106/
LOCATION:Voiture 99 Chateau\, 2809 NE 78th Street\, Vancouver\, WA\, 98665-0637\, United States
END:VEVENT
BEGIN:VEVENT
DTSTART;TZID=America/Los_Angeles:20231006T113000
DTEND;TZID=America/Los_Angeles:20231006T150000
DTSTAMP:20260422T130708
CREATED:20220908T144629Z
LAST-MODIFIED:20230926T032538Z
UID:7507-1696591800-1696604400@www.voiture-99.com
SUMMARY:Chateau Open for Lunch
DESCRIPTION:
URL:http://www.voiture-99.com/event/chateau-open-for-lunch-35/
LOCATION:Voiture 99 Chateau\, 2809 NE 78th Street\, Vancouver\, WA\, 98665-0637\, United States
END:VEVENT
BEGIN:VEVENT
DTSTART;TZID=America/Los_Angeles:20231005T113000
DTEND;TZID=America/Los_Angeles:20231005T150000
DTSTAMP:20260422T130708
CREATED:20221231T041942Z
LAST-MODIFIED:20230926T032303Z
UID:7799-1696505400-1696518000@www.voiture-99.com
SUMMARY:Chateau Open for Lunch
DESCRIPTION:
URL:http://www.voiture-99.com/event/chateau-open-for-lunch-59/
LOCATION:Voiture 99 Chateau\, 2809 NE 78th Street\, Vancouver\, WA\, 98665-0637\, United States
END:VEVENT
BEGIN:VEVENT
DTSTART;TZID=America/Los_Angeles:20231004T180000
DTEND;TZID=America/Los_Angeles:20231004T193000
DTSTAMP:20260422T130708
CREATED:20231025T012553Z
LAST-MODIFIED:20240817T182608Z
UID:8725-1696442400-1696447800@www.voiture-99.com
SUMMARY:Promenade
DESCRIPTION:Reminder to all.  Our new night for Promenade is the first Wednesday of the month.  Dinner is served at 5 pm and Promenade follows.  We have some important information to share and discuss.  Please be patient as there are limited volunteers to serve you. \nWe’re all looking forward to seeing you there. \nStay safe\, stay healthy. \n 
URL:http://www.voiture-99.com/event/november-promenade/
LOCATION:WA
END:VEVENT
BEGIN:VEVENT
DTSTART;TZID=America/Los_Angeles:20231004T113000
DTEND;TZID=America/Los_Angeles:20231004T150000
DTSTAMP:20260422T130708
CREATED:20230321T065312Z
LAST-MODIFIED:20230926T024621Z
UID:8115-1696419000-1696431600@www.voiture-99.com
SUMMARY:Chateau Open for Lunch
DESCRIPTION:
URL:http://www.voiture-99.com/event/chateau-open-for-lunch-72/
LOCATION:Voiture 99 Chateau\, 2809 NE 78th Street\, Vancouver\, WA\, 98665-0637\, United States
END:VEVENT
BEGIN:VEVENT
DTSTART;VALUE=DATE:20230930
DTEND;VALUE=DATE:20231001
DTSTAMP:20260422T130708
CREATED:20230920T083941Z
LAST-MODIFIED:20230920T083941Z
UID:8533-1696032000-1696118399@www.voiture-99.com
SUMMARY:Chateau Closed
DESCRIPTION:
URL:http://www.voiture-99.com/event/chateau-closed-3/
LOCATION:WA
END:VEVENT
BEGIN:VEVENT
DTSTART;TZID=America/Los_Angeles:20230929T090000
DTEND;TZID=America/Los_Angeles:20230929T150000
DTSTAMP:20260422T130708
CREATED:20230428T061151Z
LAST-MODIFIED:20230722T062815Z
UID:8208-1695978000-1695999600@www.voiture-99.com
SUMMARY:CCVAC Annual Stand Down
DESCRIPTION:Just a reminder….our Stand Down is coming up on September 29th. It will be at the Armed Forces Reserve Center this year. There will be more resources than ever before. Be sure you don’t miss it. We will be posting more information as we get closer. If you want to be a provider\, email standdownproviders@ccvac.net.
URL:http://www.voiture-99.com/event/annual-stand-down/
LOCATION:Armed Forces Reserve Center\, 15005 NE 65th Street \, Vancouver\, WA\, United States
END:VEVENT
BEGIN:VEVENT
DTSTART;VALUE=DATE:20230929
DTEND;VALUE=DATE:20230930
DTSTAMP:20260422T130708
CREATED:20221231T041303Z
LAST-MODIFIED:20230920T105640Z
UID:7793-1695945600-1696031999@www.voiture-99.com
SUMMARY:Chateau Temporarily Closed for Lunch
DESCRIPTION:
URL:http://www.voiture-99.com/event/chateau-open-for-lunch-56/
LOCATION:WA
END:VEVENT
BEGIN:VEVENT
DTSTART;TZID=America/Los_Angeles:20230928T180000
DTEND;TZID=America/Los_Angeles:20230928T200000
DTSTAMP:20260422T130708
CREATED:20230914T033217Z
LAST-MODIFIED:20230914T033217Z
UID:8522-1695924000-1695931200@www.voiture-99.com
SUMMARY:All the Rage: How American Politics Boiled Over
DESCRIPTION:Name-calling\, shouting matches\, cutting off relatives\, and even violence born of intense disagreements—there is bipartisan agreement that the current state of politics in the United States is troubling. How did we get here\, and what can we\, as a society and as individuals\, do about it? \nProfessor Steven Stehr investigates the roots and consequences of the dysfunction that characterizes the current state of politics in America. Stehr leads a conversation that asks\, how did our political spaces become war zones? To what extent is the lack of civility and policy gridlock driven by long-term trends in American society? Is contemporary America somehow different than the way it was in the past? Was there ever a “golden age” of bipartisanship and civility in the United States? \nUsing historical examples and contemporary cases\, Stehr shows audiences how the erosion of civil discourse harms democracy\, and what can be done to combat it. \nSeating is limited so you must reserve a seat.  Click HERE to reserve your seat. \nSteven Stehr (he/him) is the Sam Reed Distinguished Professor in Civic Education and Public Civility at Washington State University. He earned his PhD in political science from the University of California\, Berkeley. His work has been supported by the National Science Foundation\, the National Research Council\, National Academy of Science\, and the Century Foundation. \nThis talk is presented in partnership with The Thomas S. Foley Institute for Public Policy and Public Service\, which educates citizens across the state about democratic institutions and public affairs\, and is based at Washington State University. For more information\, visit The Foley Institute’s website.
URL:http://www.voiture-99.com/event/all-the-rage-how-american-politics-boiled-over/
LOCATION:Red Cross Building\, 605 East Barnes Street\, Vancouver\, WA\, 98661\, United States
END:VEVENT
BEGIN:VEVENT
DTSTART;VALUE=DATE:20230928
DTEND;VALUE=DATE:20230929
DTSTAMP:20260422T130708
CREATED:20230321T065729Z
LAST-MODIFIED:20230920T105932Z
UID:8119-1695859200-1695945599@www.voiture-99.com
SUMMARY:Chateau Temporarily Closed for Lunch
DESCRIPTION:
URL:http://www.voiture-99.com/event/chateau-open-for-lunch-74/
LOCATION:Voiture 99 Chateau\, 2809 NE 78th Street\, Vancouver\, WA\, 98665-0637\, United States
END:VEVENT
BEGIN:VEVENT
DTSTART;VALUE=DATE:20230927
DTEND;VALUE=DATE:20230928
DTSTAMP:20260422T130708
CREATED:20230321T065553Z
LAST-MODIFIED:20230920T105837Z
UID:8117-1695772800-1695859199@www.voiture-99.com
SUMMARY:Chateau Temporarily Closed for Lunch
DESCRIPTION:
URL:http://www.voiture-99.com/event/chateau-open-for-lunch-73/
LOCATION:Voiture 99 Chateau\, 2809 NE 78th Street\, Vancouver\, WA\, 98665-0637\, United States
END:VEVENT
BEGIN:VEVENT
DTSTART;VALUE=DATE:20230923
DTEND;VALUE=DATE:20230924
DTSTAMP:20260422T130708
CREATED:20230920T083746Z
LAST-MODIFIED:20230920T083811Z
UID:8531-1695427200-1695513599@www.voiture-99.com
SUMMARY:Chateau Closed
DESCRIPTION:
URL:http://www.voiture-99.com/event/chateau-closed-2/
LOCATION:WA
END:VEVENT
END:VCALENDAR