BEGIN:VCALENDAR
VERSION:2.0
PRODID:-//Voiture Locale 99 - ECPv6.15.20//NONSGML v1.0//EN
CALSCALE:GREGORIAN
METHOD:PUBLISH
X-WR-CALNAME:Voiture Locale 99
X-ORIGINAL-URL:http://www.voiture-99.com
X-WR-CALDESC:Events for Voiture Locale 99
REFRESH-INTERVAL;VALUE=DURATION:PT1H
X-Robots-Tag:noindex
X-PUBLISHED-TTL:PT1H
BEGIN:VTIMEZONE
TZID:America/Los_Angeles
BEGIN:DAYLIGHT
TZOFFSETFROM:-0800
TZOFFSETTO:-0700
TZNAME:PDT
DTSTART:20230312T100000
END:DAYLIGHT
BEGIN:STANDARD
TZOFFSETFROM:-0700
TZOFFSETTO:-0800
TZNAME:PST
DTSTART:20231105T090000
END:STANDARD
BEGIN:DAYLIGHT
TZOFFSETFROM:-0800
TZOFFSETTO:-0700
TZNAME:PDT
DTSTART:20240310T100000
END:DAYLIGHT
BEGIN:STANDARD
TZOFFSETFROM:-0700
TZOFFSETTO:-0800
TZNAME:PST
DTSTART:20241103T090000
END:STANDARD
BEGIN:DAYLIGHT
TZOFFSETFROM:-0800
TZOFFSETTO:-0700
TZNAME:PDT
DTSTART:20250309T100000
END:DAYLIGHT
BEGIN:STANDARD
TZOFFSETFROM:-0700
TZOFFSETTO:-0800
TZNAME:PST
DTSTART:20251102T090000
END:STANDARD
END:VTIMEZONE
BEGIN:VEVENT
DTSTART;TZID=America/Los_Angeles:20240706T110000
DTEND;TZID=America/Los_Angeles:20240706T180000
DTSTAMP:20260421T025841
CREATED:20240517T225723Z
LAST-MODIFIED:20240517T225723Z
UID:9261-1720263600-1720288800@www.voiture-99.com
SUMMARY:Community Event - Picnic in the Park
DESCRIPTION:Join us for a wonderful day filled with fun activities for families and people of all ages. \nPicnic in the Park features two stages with live music and entertainment\, games on the lawn\, magicians\, face painting and more. Favorite summer time foods available for purchase\, along with beer tastings for those 21 and over in the beer garden. Bring along a blanket for relaxing under the shade trees! Free admission.
URL:http://www.voiture-99.com/event/community-event-picnic-in-the-park/
LOCATION:Fort Vancouver National Historic Site\, Evergreen Blvd and Reserve Street\, Vancouver\, WA\, 98661\, United States
END:VEVENT
BEGIN:VEVENT
DTSTART;VALUE=DATE:20240706
DTEND;VALUE=DATE:20240707
DTSTAMP:20260421T025841
CREATED:20240627T171234Z
LAST-MODIFIED:20240627T171234Z
UID:9352-1720224000-1720310399@www.voiture-99.com
SUMMARY:- Building Closed -
DESCRIPTION:– Building Closed –\nNo Saturday activities at the Chateau
URL:http://www.voiture-99.com/event/building-closed-2/
END:VEVENT
BEGIN:VEVENT
DTSTART;VALUE=DATE:20240705
DTEND;VALUE=DATE:20240706
DTSTAMP:20260421T025841
CREATED:20240627T170908Z
LAST-MODIFIED:20240627T170908Z
UID:9350-1720137600-1720223999@www.voiture-99.com
SUMMARY:- Building Closed -
DESCRIPTION:– Building Closed –\nNo Friday Breakfast\n 
URL:http://www.voiture-99.com/event/building-closed/
END:VEVENT
BEGIN:VEVENT
DTSTART;VALUE=DATE:20240704
DTEND;VALUE=DATE:20240705
DTSTAMP:20260421T025841
CREATED:20240627T170448Z
LAST-MODIFIED:20240627T170540Z
UID:9347-1720051200-1720137599@www.voiture-99.com
SUMMARY:Independence Day - Building Closed
DESCRIPTION:– Building Closed –\nCoffee and Donuts cancelled\n\n 
URL:http://www.voiture-99.com/event/independence-day-building-closed/
END:VEVENT
BEGIN:VEVENT
DTSTART;TZID=America/Los_Angeles:20240627T183000
DTEND;TZID=America/Los_Angeles:20240627T200000
DTSTAMP:20260421T025841
CREATED:20240620T233722Z
LAST-MODIFIED:20240620T233722Z
UID:9327-1719513000-1719518400@www.voiture-99.com
SUMMARY:Partner event - Historic Ambulance Replica Coming to the O.O. Howard House
DESCRIPTION:Historic Ambulance Replica Coming to the O.O. Howard House \n\n\n\n\n\n\n\n\n\n\n\n\nThursday\, June 27\, 2024 \n6:30 pm – 8 pm \nGeneral O.O. Howard House \n750 Anderson St.\, Vancouver \n\n\n\n\n\n\n\n\n\n\n\n\nStop by the O.O. Howard House and learn more about WWI-era Army field medicine\, courtesy of the Vancouver Barracks Military Association (VBMA).The group will display their replica WWI-era military ambulance along with other artifacts and photographs. Drawing on historic images and plans VBMA volunteers built the ambulance around the frame of a Model T. The more than two-year project was completed in 2017. VBMA volunteers will be on hand to answer questions about the history of the barracks\, the oldest American military installation in the Pacific Northwest.
URL:http://www.voiture-99.com/event/partner-event-historic-ambulance-replica-coming-to-the-o-o-howard-house/
LOCATION:O.O. Howard House\, 750 Anderson St\, Vancouver\, WA\, 98661\, United States
END:VEVENT
BEGIN:VEVENT
DTSTART;TZID=America/Los_Angeles:20240620T090000
DTEND;TZID=America/Los_Angeles:20240620T100000
DTSTAMP:20260421T025842
CREATED:20240604T234859Z
LAST-MODIFIED:20240606T073706Z
UID:9283-1718874000-1718877600@www.voiture-99.com
SUMMARY:Labor Day Car Show volunteer Meeting
DESCRIPTION:All those interested in helping at the Labor Day Car Show. The committee will be meeting WEEKLY on Thursdays at 9am at the Chateau. All are welcome! This meeting is for planning purposes and many hands make light work. If the day or time changes\, an email will be sent out.
URL:http://www.voiture-99.com/event/labor-day-car-show-volunteers-3/
LOCATION:Voiture 99 Chateau\, 2809 NE 78th Street\, Vancouver\, WA\, 98665-0637\, United States
END:VEVENT
BEGIN:VEVENT
DTSTART;TZID=America/Los_Angeles:20240613T090000
DTEND;TZID=America/Los_Angeles:20240613T100000
DTSTAMP:20260421T025842
CREATED:20240604T234305Z
LAST-MODIFIED:20240606T073547Z
UID:9279-1718269200-1718272800@www.voiture-99.com
SUMMARY:Labor Day Car Show volunteer Meeting
DESCRIPTION:All those interested in helping at the Labor Day Car Show. The committee will be meeting WEEKLY on Thursdays at 9am at the Chateau. All are welcome! This meeting is for planning purposes and many hands make light work. If the day or time changes\, an email will be sent out.
URL:http://www.voiture-99.com/event/labor-day-car-show-volunteers-2/
LOCATION:Voiture 99 Chateau\, 2809 NE 78th Street\, Vancouver\, WA\, 98665-0637\, United States
END:VEVENT
BEGIN:VEVENT
DTSTART;TZID=America/Los_Angeles:20240606T090000
DTEND;TZID=America/Los_Angeles:20240606T100000
DTSTAMP:20260421T025842
CREATED:20240604T234022Z
LAST-MODIFIED:20240606T063245Z
UID:9276-1717664400-1717668000@www.voiture-99.com
SUMMARY:Labor Day Car Show volunteer Meeting
DESCRIPTION:All those interested in helping at the Labor Day Car Show. The committee will be meeting WEEKLY on Thursdays at 9am at the Chateau. All are welcome! This meeting is for planning purposes and many hands make light work. If the day or time changes\, an email will be sent out.
URL:http://www.voiture-99.com/event/labor-day-car-show-volunteers/
LOCATION:Voiture 99 Chateau\, 2809 NE 78th Street\, Vancouver\, WA\, 98665-0637\, United States
END:VEVENT
BEGIN:VEVENT
DTSTART;TZID=America/Los_Angeles:20240523T183000
DTEND;TZID=America/Los_Angeles:20240523T203000
DTSTAMP:20260421T025842
CREATED:20240517T224202Z
LAST-MODIFIED:20240517T224602Z
UID:9256-1716489000-1716496200@www.voiture-99.com
SUMMARY:Community Event - Military History Talk - Ulysses S. Grant Slept Here?
DESCRIPTION:Join the Vancouver Barracks Military Association for a fascinating presentation on The Grant House. As a young Brevet Captain\, Grant served as quartermaster at Vancouver Barracks from 1852-53. Historian and archaeologist Jeff Davis (U.S. Army\, Retired) will discuss his new research on the history of 1849 Officers Row building commonly referred to as The Grant House\, as well as the building demolished long ago in which Grant did live. \nPlease register at President@VBMA.us. Seating is limited.
URL:http://www.voiture-99.com/event/military-history-talk-ulysses-s-grant-slept-here/
LOCATION:O.O. Howard House\, 750 Anderson St\, Vancouver\, WA\, 98661\, United States
END:VEVENT
BEGIN:VEVENT
DTSTART;TZID=America/Los_Angeles:20240521T133000
DTEND;TZID=America/Los_Angeles:20240521T153000
DTSTAMP:20260421T025842
CREATED:20240508T010255Z
LAST-MODIFIED:20240508T010255Z
UID:9240-1716298200-1716305400@www.voiture-99.com
SUMMARY:Clark College Veterans Center of Excellence will be celebrating its 10-year anniversary
DESCRIPTION:Clark College Veterans Center of Excellence will be celebrating its 10-year anniversary on May 21\, 2024\, from 1:30-3:30pm in the Gaiser Student Center. This event is free to attend. \nThey would like to say thank you to everyone for the continued support for veteran student success. Come meet fellow veterans\, donors\, and supporters.
URL:http://www.voiture-99.com/event/clark-college-veterans-center-of-excellence-will-be-celebrating-its-10-year-anniversary/
LOCATION:Clark College – Gaiser Hall\, 1933 Fort Vancouver Way\, Vancouver\, WA\, United States
END:VEVENT
BEGIN:VEVENT
DTSTART;VALUE=DATE:20240518
DTEND;VALUE=DATE:20240519
DTSTAMP:20260421T025842
CREATED:20240227T093804Z
LAST-MODIFIED:20240227T093804Z
UID:9020-1715990400-1716076799@www.voiture-99.com
SUMMARY:Petite Grande Promenade
DESCRIPTION:More information as soon as it’s available.
URL:http://www.voiture-99.com/event/petite-grande-promenade/
LOCATION:American Legion Post 31\, 206 W Franklin St\, Shelton\, WA\, United States
END:VEVENT
BEGIN:VEVENT
DTSTART;TZID=America/Los_Angeles:20240517T163000
DTEND;TZID=America/Los_Angeles:20240517T193000
DTSTAMP:20260421T025842
CREATED:20240427T115024Z
LAST-MODIFIED:20240427T212031Z
UID:9218-1715963400-1715974200@www.voiture-99.com
SUMMARY:HD Parade of Bands Reception
DESCRIPTION:
URL:http://www.voiture-99.com/event/hd-parade-of-bands-reception/
LOCATION:Voiture 99 Chateau\, 2809 NE 78th Street\, Vancouver\, WA\, 98665-0637\, United States
END:VEVENT
BEGIN:VEVENT
DTSTART;TZID=America/Los_Angeles:20240510T183000
DTEND;TZID=America/Los_Angeles:20240510T203000
DTSTAMP:20260421T025842
CREATED:20240427T114747Z
LAST-MODIFIED:20240427T114747Z
UID:9216-1715365800-1715373000@www.voiture-99.com
SUMMARY:Pointman Ministries
DESCRIPTION:
URL:http://www.voiture-99.com/event/pointman-ministries-2/
END:VEVENT
BEGIN:VEVENT
DTSTART;TZID=America/Los_Angeles:20240508T183000
DTEND;TZID=America/Los_Angeles:20240508T203000
DTSTAMP:20260421T025842
CREATED:20240220T184250Z
LAST-MODIFIED:20240227T184716Z
UID:8972-1715193000-1715200200@www.voiture-99.com
SUMMARY:Our Community Salutes
DESCRIPTION:Our Community Salutes\, this year it will be held May 8th at Skyview HS at 6:30pm. High School and College students that will be joining the Military will be recognized. \nThe guest speaker will be Miss Washington\, and many military and civic leaders will also be in attendance. The goal of this event is to support not only the youth but the parents and families as well. \nWe are one of the few communities on the west coast to put on this event.
URL:http://www.voiture-99.com/event/our-community-salutes-4/
LOCATION:Skyview High School\, 1300 NW 139th Street\, Vancouver\, WA\, 98685\, United States
END:VEVENT
BEGIN:VEVENT
DTSTART;TZID=America/Los_Angeles:20240504T110000
DTEND;TZID=America/Los_Angeles:20240504T150000
DTSTAMP:20260421T025842
CREATED:20240113T195839Z
LAST-MODIFIED:20240508T010645Z
UID:8903-1714820400-1714834800@www.voiture-99.com
SUMMARY:Mustang Car Show - Rescheduled to 5/18
DESCRIPTION:Mustang Car Show
URL:http://www.voiture-99.com/event/saturday-at-the-chateau-lunch-open-to-the-public-8/
LOCATION:Voiture 99 Chateau\, 2809 NE 78th Street\, Vancouver\, WA\, 98665-0637\, United States
END:VEVENT
BEGIN:VEVENT
DTSTART;TZID=America/Los_Angeles:20240501T103000
DTEND;TZID=America/Los_Angeles:20240501T123000
DTSTAMP:20260421T025842
CREATED:20240501T204621Z
LAST-MODIFIED:20240501T204621Z
UID:9222-1714559400-1714566600@www.voiture-99.com
SUMMARY:2024 Hazel Dell Parade of Bands
DESCRIPTION:The HDSCBA is proud to present the 2024 Hazel Dell Parade of Bands! \n\nThe Power of Music\n\nMay 18\, 2024 \nFeaturing Grand Marshals \nMatt & Jodi Gohlke\, Music World \nRegistration begins March 1 and closes May 10\, 2022.
URL:http://www.voiture-99.com/event/2024-hazel-dell-parade-of-bands/
LOCATION:Hazel Dell\, 912 NE 68th St\, Vancouver\, WA\, United States
END:VEVENT
BEGIN:VEVENT
DTSTART;TZID=America/Los_Angeles:20240425T183000
DTEND;TZID=America/Los_Angeles:20240425T203000
DTSTAMP:20260421T025842
CREATED:20240411T091813Z
LAST-MODIFIED:20240411T091813Z
UID:9150-1714069800-1714077000@www.voiture-99.com
SUMMARY:Military History Talk - The U.S. Army's Love Affair with Coffee
DESCRIPTION:Military History Talk – The U.S. Army’s Love Affair with Coffee \n\n\n\n\n\n\n\n\n\n\n\n\nThursday\, April 25\, 2024 \n6:30 pm – 8:30 pm \nGeneral O.O. Howard House \n750 Anderson St.\, Vancouver \n\n\n\n\n\n\n\n\n\n\n\n\nJoin us for this interesting and eye-opening presentation by the Vancouver Barracks Military Association! \n\nA now-forgotten staff officer once said\, “The U.S. Army can fight any battle without a morning cup of coffee…We just prefer not to!” A stereotypical picture of the average U.S. soldier includes a cup of steaming coffee (joe\, java\, mocha\, or jitter-juice) near at hand. However\, coffee was not the original drink of choice during the American Revolution. The love affair began when the Army gave soldiers a weekly ration of coffee and sugar in the 1830s. Over the decades\, Army quartermasters searched for the cheapest\, yet drinkable\, cup of coffee they could find\, even at the Vancouver Barracks Regimental Canteen in 1886. Speaker Jeff Dacus\, author\, former local history teacher\, and Marine Corps Reserve combat veteran\, will discuss the origins and worldwide spread of coffee drinking\, with a focus on its consumption in the Army. \n\nTo register for this free program presented by the Vancouver Barracks Military Association\, please email jddavis@rocketmail.com. \n\nImages courtesy of the Vancouver Barracks Military Association.
URL:http://www.voiture-99.com/event/military-history-talk-the-u-s-armys-love-affair-with-coffee/
LOCATION:O.O. Howard House\, 750 Anderson St\, Vancouver\, WA\, 98661\, United States
END:VEVENT
BEGIN:VEVENT
DTSTART;VALUE=DATE:20240410
DTEND;VALUE=DATE:20240414
DTSTAMP:20260421T025842
CREATED:20240123T231506Z
LAST-MODIFIED:20240123T231506Z
UID:8920-1712707200-1713052799@www.voiture-99.com
SUMMARY:2024 Great Western Promenade
DESCRIPTION:Dear Voyageurs\, \nAttached is the information for the 2024 Great Western Promenade to be held in Vancouver\, Washington  April 10-13\, 2024.  Please reach out to me if you have any questions. FYI we are hosting it and could use help as well!\n\n\nClick here for Registration.\nClick here for Ad information\n\n\nClick here for Tour and activity schedules.\n\n\n\n\nEn service\,\n\nAnne Beaton\, Madame La Presidente\, Great Western 2024
URL:http://www.voiture-99.com/event/2024-great-western-promenade/
LOCATION:Doubletree by Hilton\, 12712 SE 2nd Cir\, Vancouver\, WA\, 98684\, United States
END:VEVENT
BEGIN:VEVENT
DTSTART;TZID=America/Los_Angeles:20240328T183000
DTEND;TZID=America/Los_Angeles:20240328T203000
DTSTAMP:20260421T025842
CREATED:20240313T183355Z
LAST-MODIFIED:20240313T201114Z
UID:9118-1711650600-1711657800@www.voiture-99.com
SUMMARY:Military History Talk - Historic Photographers of Vancouver Barracks
DESCRIPTION:Thursday\, March 28\, 2024\n6:30 pm – 8:30 pm\nGeneral O.O. Howard House\n750 Anderson St.\, Vancouver \n\n\n\n\n\n\n\n\n\n\n\nFrom the earliest days of the Vancouver Barracks\, government-sponsored pictures and engravings were created\, documenting the history of the installation. In addition to official images\, private individuals took pictures of the daily life of soldiers and their families. \nJoin us for this interesting discussion with historian and archaeologist Major Jeff Davis\, (U.S. Army\, Retired) and learn about the work of military and civilian photographers\, both identified and anonymous\, including Laura Lee Otis and That Man Marcell\, and see samples of their images. Jeff will present images from his extensive collection of vintage photographs of Vancouver Barracks\, along with biographical information about the photographers. Images will include historic interiors of the Marshall House\, street views in the Vancouver Barracks\, and soldiers working and relaxing. Many of the photographs have not previously been shared publicly. \n\n\n\n\n\n\n\n\n\n\n\n\n\n\nTo register for this free program presented by the Vancouver Barracks Military Association\, please email jddavis@rocketmail.com.
URL:http://www.voiture-99.com/event/military-history-talk-historic-photographers-of-vancouver-barracks/
LOCATION:O.O. Howard House\, 750 Anderson St\, Vancouver\, WA\, 98661\, United States
END:VEVENT
BEGIN:VEVENT
DTSTART;VALUE=DATE:20240309
DTEND;VALUE=DATE:20240310
DTSTAMP:20260421T025842
CREATED:20220902T032813Z
LAST-MODIFIED:20240309T161614Z
UID:7481-1709942400-1710028799@www.voiture-99.com
SUMMARY:/// 40 et 8 Chateau will be closed on Saturday March 9 due to equipment issues \\\
DESCRIPTION:
URL:http://www.voiture-99.com/event/saturday-at-the-chateau-103/
LOCATION:Voiture 99 Chateau\, 2809 NE 78th Street\, Vancouver\, WA\, 98665-0637\, United States
END:VEVENT
BEGIN:VEVENT
DTSTART;TZID=America/Los_Angeles:20240228T183000
DTEND;TZID=America/Los_Angeles:20240228T203000
DTSTAMP:20260421T025842
CREATED:20240222T205937Z
LAST-MODIFIED:20240222T205937Z
UID:8977-1709145000-1709152200@www.voiture-99.com
SUMMARY:Civil Discourse or Civil Divide
DESCRIPTION:Do not miss this important event hosted by VANTalks exploring the impact of civil discourse on our community and ways we can work together to bridge divides. This interactive event includes facilitated dialogue sessions\, collaborative workshops\, strategies for positive action\, and engaging discussions. \nThis special evening features two amazing speakers\, including The Historic Trust’s very own Temple Lentz\, President/CEO! Temple will share about an innovative approach The Historic Trust is taking to build conversations between strangers. What happens when community members get together to ask each other “36 Questions for Civic Love”? \nWill Campbell\, Associate Editor and co-owner of The Columbian will discuss the future of traditional local journalism. In many communities in the US\, local independent reporter jobs have diminished and disappeared. What’s replaced them are bloggers\, Facebook groups\, and politically-driven propaganda. \nLimited tickets available! Click HERE to reserve your spot today! \nQuestions? Contact: hello@vantalks.org
URL:http://www.voiture-99.com/event/civil-discourse-or-civil-divide/
LOCATION:Red Cross Building\, 605 East Barnes Street\, Vancouver\, WA\, 98661\, United States
END:VEVENT
BEGIN:VEVENT
DTSTART;TZID=America/Los_Angeles:20240224T100000
DTEND;TZID=America/Los_Angeles:20240224T113000
DTSTAMP:20260421T025842
CREATED:20231124T073302Z
LAST-MODIFIED:20240206T004746Z
UID:8796-1708768800-1708774200@www.voiture-99.com
SUMMARY:Promenade and Cheminot Combined
DESCRIPTION:Donuts and coffee before the 10am start time for Prom and Cheminot and you can order off the regular lunch menu after.  See you there! \nWe will be having a combined Promenade and Cheminot on Saturday\, February 24th at 10:00am.  Hopefully we can get some more members to attend on a weekend and not have to drive at night.  Donuts and coffee will be available before the meeting\, and you will be able to order of the regular lunch menu afterwards.  Come and share a bit of your time with us for fun and fellowship!
URL:http://www.voiture-99.com/event/promenade-and-cheminot-combined/
LOCATION:Voiture 99 Chateau\, 2809 NE 78th Street\, Vancouver\, WA\, 98665-0637\, United States
END:VEVENT
BEGIN:VEVENT
DTSTART;TZID=America/Los_Angeles:20240223T173000
DTEND;TZID=America/Los_Angeles:20240223T203000
DTSTAMP:20260421T025842
CREATED:20240206T014414Z
LAST-MODIFIED:20240206T015046Z
UID:8953-1708709400-1708720200@www.voiture-99.com
SUMMARY:Pointman Ministries
DESCRIPTION:Mark your calendar for this event\, and remember: 1st responders and veterans are encouraged to attend this service/ support group for those having experienced trauma and or combat. \nWe will be having our usual ‘check-in’ around the group and time for brief testimonies; (emphasis on ‘brief.’!).
URL:http://www.voiture-99.com/event/pointman-ministries/
END:VEVENT
BEGIN:VEVENT
DTSTART;TZID=America/Los_Angeles:20240222T183000
DTEND;TZID=America/Los_Angeles:20240222T203000
DTSTAMP:20260421T025842
CREATED:20240214T060529Z
LAST-MODIFIED:20240214T064303Z
UID:8962-1708626600-1708633800@www.voiture-99.com
SUMMARY:Military History Talk – George Washington and His Legacy
DESCRIPTION:The Historic Trust is excited to host the Vancouver Barracks Military Association’s 2024 Military History Talk series. Join us for this fascinating discussion with speaker Jeff Dacus and learn more about Washington state’s connection to our nation’s first president. \nWhy is Washington state called Washington? Learn more on the 292nd birthday of our nation’s first president at a presentation by Jeff Dacus on the attributes and values of George Washington. \nJeff Dacus (U.S. Marine Corps\, retired) is a retired history teacher and the award-winning author of several books and numerous articles. He is a frequent public speaker and has been the historian for the annual Northwest Colonial Festival (now Northwest Heritage Festival). (jeffdacus.com). Dacus’ book\, Perceptions of Battle\, which discusses Washington’s leadership during the Battle of Monmonth\, the longest battle of the Revolutionary War\, is due out in May\, 2024. \nTo register for this program presented by the Vancouver Barracks Military Association\, please email jddavis@rocketmail.com.
URL:http://www.voiture-99.com/event/military-history-talk-george-washington-and-his-legacy/
LOCATION:O.O. Howard House\, 750 Anderson St\, Vancouver\, WA\, 98661\, United States
END:VEVENT
BEGIN:VEVENT
DTSTART;TZID=America/Los_Angeles:20240221T170000
DTEND;TZID=America/Los_Angeles:20240221T200000
DTSTAMP:20260421T025842
CREATED:20240113T193135Z
LAST-MODIFIED:20240113T193928Z
UID:8892-1708534800-1708545600@www.voiture-99.com
SUMMARY:Student Nurses Appreciation Dinner
DESCRIPTION:
URL:http://www.voiture-99.com/event/nurses-appreciation-dinner/
LOCATION:Voiture 99 Chateau\, 2809 NE 78th Street\, Vancouver\, WA\, 98665-0637\, United States
END:VEVENT
BEGIN:VEVENT
DTSTART;TZID=America/Los_Angeles:20240217T100000
DTEND;TZID=America/Los_Angeles:20240217T113000
DTSTAMP:20260421T025842
CREATED:20240206T185550Z
LAST-MODIFIED:20240207T190802Z
UID:8957-1708164000-1708169400@www.voiture-99.com
SUMMARY:ANNUAL IWO JIMA FLAGRAISING CEREMONY
DESCRIPTION:
URL:http://www.voiture-99.com/event/annual-iwo-jima-flagraising-ceremony/
LOCATION:Canby Adult Center\, 1250 S. IVY\, Canby\, OR\, 97013\, United States
END:VEVENT
BEGIN:VEVENT
DTSTART;TZID=America/Los_Angeles:20240204T150000
DTEND;TZID=America/Los_Angeles:20240204T170000
DTSTAMP:20260421T025842
CREATED:20240125T045433Z
LAST-MODIFIED:20240125T045433Z
UID:8937-1707058800-1707066000@www.voiture-99.com
SUMMARY:Clark County Veterans Assistance Center Bingo Fundraiser
DESCRIPTION:
URL:http://www.voiture-99.com/event/clark-county-veterans-assistance-center-bingo-fundraiser/
LOCATION:Vancouver Elks #823\, 11605 SE McGillivary Blvd\, Vancouver\, WA\, United States
END:VEVENT
BEGIN:VEVENT
DTSTART;VALUE=DATE:20240127
DTEND;VALUE=DATE:20240128
DTSTAMP:20260421T025842
CREATED:20240110T191205Z
LAST-MODIFIED:20240110T211926Z
UID:8876-1706313600-1706399999@www.voiture-99.com
SUMMARY:Oregon Winter Grande Cheminot
DESCRIPTION:December 20\, 2023 \nTo All Voyageurs: \nThis is the Official Call to the “Oregon Winter Grande Cheminot”to be held in Lebanon\, Saturday January 27th\, 2024.Your Hosts are Voiture & Cabane #891\, along with A.L. Post & Aux. 51. Registration Form & Hotel info. attached. \nFriday evening January 26th there will be dinner & Sunday morning January 28th there will be breakfast\, at the post if interested. \nSaturday January 27th: \nVoyageur wreck 9:30 a.m.                                Click HERE for the Oregon Grande Cheminot Registration                   Click HERE for a list of local motel prices \nGrande Cheminot 2:00 p.m. \nBanquet 6 p.m. \nHost Voiture 891’s Child Welfare Project is the Boys & Girls Club.Monetary donations should go through your Cabanes & Cabane checks should be made payable to Voiture #891& note in the memo area. Send to V891 Ray Johnson\, 37286 Meredith Dr.\, Lebanon\, OR 97355. Since money is out of Cabane funds\, place under “donated” on your Cabane reports.You will list this on your next quarterly report for Jan.-March under Child Welfare. \nBesides our normal 50/50 Grande Raffle we are also having a “Grab Bag Raffle” to go towards the Youth Sports Program. Dames\, please bring Grab Bags filled with goodies priced anywhere from $3 and beyond! \nThey will be $3.00 each bag\,or 2 bags for $5.00\, or 4 bags for $10.00. \nSo please help by purchasing tickets. \nThere will be door prizes at the Cheminot too\, so bring some cash to donate. Registration fee is $15.00. \nHope to see you in Lebanon! \nJason Virnig\, Grande Correspondante
URL:http://www.voiture-99.com/event/winter-grande-cheminot/
END:VEVENT
BEGIN:VEVENT
DTSTART;TZID=America/Los_Angeles:20240120T100000
DTEND;TZID=America/Los_Angeles:20240120T113000
DTSTAMP:20260421T025842
CREATED:20231220T094532Z
LAST-MODIFIED:20240110T175238Z
UID:8841-1705744800-1705750200@www.voiture-99.com
SUMMARY:Combined Promenade and Cheminot
DESCRIPTION:Donuts and coffee before the 10am start time for Prom and Cheminot and you can order off the regular lunch menu after.  See you there! \nWe will be having a combined Promenade and Cheminot on Saturday\, January 13th at 10:00am.  Hopefully we can get some more members to attend on a weekend and not have to drive at night.  Donuts and coffee will be available before the meeting\, and you will be able to order of the regular lunch menu afterwards.  Come and share a bit of your time with us for fun and fellowship!
URL:http://www.voiture-99.com/event/combined-promenade-and-cheminot/
LOCATION:Voiture 99 Chateau\, 2809 NE 78th Street\, Vancouver\, WA\, 98665-0637\, United States
END:VEVENT
BEGIN:VEVENT
DTSTART;VALUE=DATE:20240113
DTEND;VALUE=DATE:20240114
DTSTAMP:20260421T025842
CREATED:20240110T175441Z
LAST-MODIFIED:20240113T200220Z
UID:8873-1705104000-1705190399@www.voiture-99.com
SUMMARY:Chateau Closed due to weather 
DESCRIPTION:Combined Promenade and Cheminot – changed to January 20th\nChateau Closed due to weather \nChef Boyd has made the decision to preemptively postpone our meeting to Saturday January 20th as inclement weather is due this Saturday.  It will still be at 10am.  The health and safety of our members and staff is our highest priority.  Thanks for your understanding.
URL:http://www.voiture-99.com/event/combined-promenade-and-cheminot-changed-to-january-20th/
END:VEVENT
END:VCALENDAR