BEGIN:VCALENDAR
VERSION:2.0
PRODID:-//Voiture Locale 99 - ECPv6.15.20//NONSGML v1.0//EN
CALSCALE:GREGORIAN
METHOD:PUBLISH
X-WR-CALNAME:Voiture Locale 99
X-ORIGINAL-URL:http://www.voiture-99.com
X-WR-CALDESC:Events for Voiture Locale 99
REFRESH-INTERVAL;VALUE=DURATION:PT1H
X-Robots-Tag:noindex
X-PUBLISHED-TTL:PT1H
BEGIN:VTIMEZONE
TZID:America/Los_Angeles
BEGIN:DAYLIGHT
TZOFFSETFROM:-0800
TZOFFSETTO:-0700
TZNAME:PDT
DTSTART:20180311T100000
END:DAYLIGHT
BEGIN:STANDARD
TZOFFSETFROM:-0700
TZOFFSETTO:-0800
TZNAME:PST
DTSTART:20181104T090000
END:STANDARD
BEGIN:DAYLIGHT
TZOFFSETFROM:-0800
TZOFFSETTO:-0700
TZNAME:PDT
DTSTART:20190310T100000
END:DAYLIGHT
BEGIN:STANDARD
TZOFFSETFROM:-0700
TZOFFSETTO:-0800
TZNAME:PST
DTSTART:20191103T090000
END:STANDARD
BEGIN:DAYLIGHT
TZOFFSETFROM:-0800
TZOFFSETTO:-0700
TZNAME:PDT
DTSTART:20200308T100000
END:DAYLIGHT
BEGIN:STANDARD
TZOFFSETFROM:-0700
TZOFFSETTO:-0800
TZNAME:PST
DTSTART:20201101T090000
END:STANDARD
BEGIN:DAYLIGHT
TZOFFSETFROM:-0800
TZOFFSETTO:-0700
TZNAME:PDT
DTSTART:20210314T100000
END:DAYLIGHT
BEGIN:STANDARD
TZOFFSETFROM:-0700
TZOFFSETTO:-0800
TZNAME:PST
DTSTART:20211107T090000
END:STANDARD
END:VTIMEZONE
BEGIN:VEVENT
DTSTART;TZID=America/Los_Angeles:20200425T110000
DTEND;TZID=America/Los_Angeles:20200425T170000
DTSTAMP:20260421T105324
CREATED:20200315T074449Z
LAST-MODIFIED:20200404T013935Z
UID:4866-1587812400-1587834000@www.voiture-99.com
SUMMARY:Saturday at the Chateau - All voiture 99 activities and bingo hall operations have been suspended.
DESCRIPTION:  \nThe safety of our valued members and the public is our highest priority. We are closely monitoring Coronavirus (COVID-19) developments and following the guidelines provided by federal\, state and local government agencies as this situation evolves. We will update information on our calendar and Facebook page as soon as there is a change.
URL:http://www.voiture-99.com/event/saturday-at-the-chateau-15/
LOCATION:Voiture 99 Chateau\, 2809 NE 78th Street\, Vancouver\, WA\, 98665-0637\, United States
CATEGORIES:Americanism,Community Service,Luncheon,Remembrance and Appreciation,Veterans Event
END:VEVENT
BEGIN:VEVENT
DTSTART;TZID=America/Los_Angeles:20200418T110000
DTEND;TZID=America/Los_Angeles:20200418T170000
DTSTAMP:20260421T105324
CREATED:20200315T074210Z
LAST-MODIFIED:20200404T013638Z
UID:4864-1587207600-1587229200@www.voiture-99.com
SUMMARY:Saturday at the Chateau - All voiture 99 activities and bingo hall operations have been suspended.
DESCRIPTION:  \nThe safety of our valued members and the public is our highest priority. We are closely monitoring Coronavirus (COVID-19) developments and following the guidelines provided by federal\, state and local government agencies as this situation evolves. We will update information on our calendar and Facebook page as soon as there is a change.
URL:http://www.voiture-99.com/event/saturday-at-the-chateau-14/
LOCATION:Voiture 99 Chateau\, 2809 NE 78th Street\, Vancouver\, WA\, 98665-0637\, United States
CATEGORIES:Americanism,Community Service,Entertainment,Luncheon,Remembrance and Appreciation,Veterans Event
END:VEVENT
BEGIN:VEVENT
DTSTART;TZID=America/Los_Angeles:20200411T110000
DTEND;TZID=America/Los_Angeles:20200411T170000
DTSTAMP:20260421T105324
CREATED:20200315T073952Z
LAST-MODIFIED:20200404T013532Z
UID:4862-1586602800-1586624400@www.voiture-99.com
SUMMARY:Saturday at the Chateau - All voiture 99 activities and bingo hall operations have been suspended.
DESCRIPTION:  \nThe safety of our valued members and the public is our highest priority. We are closely monitoring Coronavirus (COVID-19) developments and following the guidelines provided by federal\, state and local government agencies as this situation evolves. We will update information on our calendar and Facebook page as soon as there is a change.
URL:http://www.voiture-99.com/event/saturday-at-the-chateau-13/
LOCATION:Voiture 99 Chateau\, 2809 NE 78th Street\, Vancouver\, WA\, 98665-0637\, United States
CATEGORIES:Americanism,Community Service,Entertainment,Luncheon,Remembrance and Appreciation,Veterans Event
END:VEVENT
BEGIN:VEVENT
DTSTART;TZID=America/Los_Angeles:20200404T110000
DTEND;TZID=America/Los_Angeles:20200404T170000
DTSTAMP:20260421T105324
CREATED:20200315T072742Z
LAST-MODIFIED:20200404T013026Z
UID:4860-1585998000-1586019600@www.voiture-99.com
SUMMARY:Saturday at the Chateau - All voiture 99 activities and bingo hall operations have been suspended.
DESCRIPTION:  \nThe safety of our valued members and the public is our highest priority. We are closely monitoring Coronavirus (COVID-19) developments and following the guidelines provided by federal\, state and local government agencies as this situation evolves. We will update information on our calendar and Facebook page as soon as there is a change.
URL:http://www.voiture-99.com/event/saturday-at-the-chateau-12/
LOCATION:Voiture 99 Chateau\, 2809 NE 78th Street\, Vancouver\, WA\, 98665-0637\, United States
CATEGORIES:Americanism,Community Service,Entertainment,Luncheon,Remembrance and Appreciation,Veterans Event
END:VEVENT
BEGIN:VEVENT
DTSTART;TZID=America/Los_Angeles:20200328T110000
DTEND;TZID=America/Los_Angeles:20200328T170000
DTSTAMP:20260421T105324
CREATED:20200315T071458Z
LAST-MODIFIED:20200326T173428Z
UID:4858-1585393200-1585414800@www.voiture-99.com
SUMMARY:Saturday at the Chateau
DESCRIPTION: ALL VOITURE 99 ACTIVITIES AND BINGO HALL OPERATIONS HAVE BEEN SUSPENDED UNTIL APRIL 2\, 2020.   At that time the Cheminot will reconvene and reevaluate the situation.
URL:http://www.voiture-99.com/event/saturday-at-the-chateau-11/
LOCATION:Voiture 99 Chateau\, 2809 NE 78th Street\, Vancouver\, WA\, 98665-0637\, United States
CATEGORIES:Americanism,Community Service,Entertainment,Luncheon,Remembrance and Appreciation,Veterans Event
END:VEVENT
BEGIN:VEVENT
DTSTART;TZID=America/Los_Angeles:20200321T110000
DTEND;TZID=America/Los_Angeles:20200321T170000
DTSTAMP:20260421T105324
CREATED:20200315T071109Z
LAST-MODIFIED:20200326T171755Z
UID:4856-1584788400-1584810000@www.voiture-99.com
SUMMARY:Saturday at the Chateau
DESCRIPTION: ALL VOITURE 99 ACTIVITIES AND BINGO HALL OPERATIONS HAVE BEEN SUSPENDED UNTIL APRIL 2\, 2020.   At that time the Cheminot will reconvene and reevaluate the situation.
URL:http://www.voiture-99.com/event/saturday-at-the-chateau-10/
LOCATION:Voiture 99 Chateau\, 2809 NE 78th Street\, Vancouver\, WA\, 98665-0637\, United States
CATEGORIES:Americanism,Community Service,Entertainment,Luncheon,Remembrance and Appreciation,Veterans Event
END:VEVENT
BEGIN:VEVENT
DTSTART;TZID=America/Los_Angeles:20191017T113000
DTEND;TZID=America/Los_Angeles:20191017T133000
DTSTAMP:20260421T105324
CREATED:20191003T000806Z
LAST-MODIFIED:20191003T000806Z
UID:4361-1571311800-1571319000@www.voiture-99.com
SUMMARY:Military Officer Association of America (MOAA) Luncheon
DESCRIPTION:Enjoy lunch at the 40 et 8 Boxcar at 7607 N.E. 26th Ave.\, Vancouver\, at 11:30 a.m. on Oct. 17.\nThe featured speaker is Mark Hanneman\, DOE Counter Intelligence Officer from Hanford.
URL:http://www.voiture-99.com/event/military-officer-association-of-america-moaa-luncheon/
LOCATION:Voiture 99 Chateau\, 2809 NE 78th Street\, Vancouver\, WA\, 98665-0637\, United States
CATEGORIES:Americanism,Community Event,Community Service,Luncheon,Meeting,Remembrance and Appreciation
END:VEVENT
END:VCALENDAR