BEGIN:VCALENDAR
VERSION:2.0
PRODID:-//Voiture Locale 99 - ECPv6.15.20//NONSGML v1.0//EN
CALSCALE:GREGORIAN
METHOD:PUBLISH
X-WR-CALNAME:Voiture Locale 99
X-ORIGINAL-URL:http://www.voiture-99.com
X-WR-CALDESC:Events for Voiture Locale 99
REFRESH-INTERVAL;VALUE=DURATION:PT1H
X-Robots-Tag:noindex
X-PUBLISHED-TTL:PT1H
BEGIN:VTIMEZONE
TZID:America/Los_Angeles
BEGIN:DAYLIGHT
TZOFFSETFROM:-0800
TZOFFSETTO:-0700
TZNAME:PDT
DTSTART:20150308T100000
END:DAYLIGHT
BEGIN:STANDARD
TZOFFSETFROM:-0700
TZOFFSETTO:-0800
TZNAME:PST
DTSTART:20151101T090000
END:STANDARD
BEGIN:DAYLIGHT
TZOFFSETFROM:-0800
TZOFFSETTO:-0700
TZNAME:PDT
DTSTART:20160313T100000
END:DAYLIGHT
BEGIN:STANDARD
TZOFFSETFROM:-0700
TZOFFSETTO:-0800
TZNAME:PST
DTSTART:20161106T090000
END:STANDARD
BEGIN:DAYLIGHT
TZOFFSETFROM:-0800
TZOFFSETTO:-0700
TZNAME:PDT
DTSTART:20170312T100000
END:DAYLIGHT
BEGIN:STANDARD
TZOFFSETFROM:-0700
TZOFFSETTO:-0800
TZNAME:PST
DTSTART:20171105T090000
END:STANDARD
BEGIN:DAYLIGHT
TZOFFSETFROM:-0800
TZOFFSETTO:-0700
TZNAME:PDT
DTSTART:20180311T100000
END:DAYLIGHT
BEGIN:STANDARD
TZOFFSETFROM:-0700
TZOFFSETTO:-0800
TZNAME:PST
DTSTART:20181104T090000
END:STANDARD
END:VTIMEZONE
BEGIN:VEVENT
DTSTART;TZID=America/Los_Angeles:20171017T183000
DTEND;TZID=America/Los_Angeles:20171017T193000
DTSTAMP:20260424T191559
CREATED:20161222T080919Z
LAST-MODIFIED:20170908T015738Z
UID:1433-1508265000-1508268600@www.voiture-99.com
SUMMARY:Voiture 99 Cheminot / Cabane 99 Cheminot
DESCRIPTION:Monthly Voiture Business meeting held on the third Tuesday of every month. \nDinner 5:30 pm\, Cost $8.00\nMeeting  6:30 pm  (Members only during meeting)
URL:http://www.voiture-99.com/event/cheminot-4/
LOCATION:Voiture 99 Chateau\, 2809 NE 78th Street\, Vancouver\, WA\, 98665-0637\, United States
CATEGORIES:Americanism,Cheminot,Meeting,Remembrance and Appreciation,Veterans Event
END:VEVENT
BEGIN:VEVENT
DTSTART;TZID=America/Los_Angeles:20170905T183000
DTEND;TZID=America/Los_Angeles:20170905T190000
DTSTAMP:20260424T191559
CREATED:20170726T100952Z
LAST-MODIFIED:20170813T171308Z
UID:2248-1504636200-1504638000@www.voiture-99.com
SUMMARY:Voiture 99 Promenade / Voiture 99 Cheminot
DESCRIPTION:This Is a combination Promenade and Cheminot due to many Officers being gone to the National Convention.\nVoiture 99 Cheminot / Cabane 99 Cheminot\nVoiture 99 Promenade / Cabane 99 Rendezvous \nChateau opens at 4:00 pm \nFinancial Committee at 4:00 pm at the Bingo Parlor \nDinner at 5:30 pm\, Cost: $8.00 \nMeetings 6:30 pm
URL:http://www.voiture-99.com/event/voiture-99-promenade-voiture-99-cheminot/
LOCATION:Voiture 99 Chateau\, 2809 NE 78th Street\, Vancouver\, WA\, 98665-0637\, United States
CATEGORIES:Americanism,Cheminot,Promenade,Remembrance and Appreciation,Veterans Event
END:VEVENT
BEGIN:VEVENT
DTSTART;TZID=America/Los_Angeles:20170718T183000
DTEND;TZID=America/Los_Angeles:20170718T193000
DTSTAMP:20260424T191559
CREATED:20170314T020111Z
LAST-MODIFIED:20170314T020111Z
UID:1777-1500402600-1500406200@www.voiture-99.com
SUMMARY:Voiture 99 Cheminot / Cabane 99 Cheminot
DESCRIPTION:Voiture 99 Cheminot / Cabane 99 Cheminot \nDinner at 5:30 pm \nMeeting 6:30 pm
URL:http://www.voiture-99.com/event/voiture-99-cheminot-cabane-99-cheminot-4/
LOCATION:Voiture 99 Chateau\, 2809 NE 78th Street\, Vancouver\, WA\, 98665-0637\, United States
CATEGORIES:Americanism,Cheminot,Community Service,La Femmes,Meeting,Remembrance and Appreciation,Veterans Event
END:VEVENT
BEGIN:VEVENT
DTSTART;TZID=America/Los_Angeles:20170117T183000
DTEND;TZID=America/Los_Angeles:20170117T200000
DTSTAMP:20260424T191559
CREATED:20161222T080513Z
LAST-MODIFIED:20170117T032902Z
UID:1431-1484677800-1484683200@www.voiture-99.com
SUMMARY:Cheminot-Cancelled due to Weather
DESCRIPTION:CANCELLED \nDUE TO WEATHER \nMonthly Voiture Business meeting held on the third Tuesday of every month. \nDinner 5:30 pm\, Cost $8.00\nMeeting  6:30 pm  (Members only during meeting)
URL:http://www.voiture-99.com/event/cheminot-2/
LOCATION:Voiture 99 Chateau\, 2809 NE 78th Street\, Vancouver\, WA\, 98665-0637\, United States
CATEGORIES:Cheminot,Meeting,Veterans Event
END:VEVENT
BEGIN:VEVENT
DTSTART;TZID=America/Los_Angeles:20161220T173000
DTEND;TZID=America/Los_Angeles:20161220T200000
DTSTAMP:20260424T191559
CREATED:20160922T021033Z
LAST-MODIFIED:20160922T021033Z
UID:1007-1482255000-1482264000@www.voiture-99.com
SUMMARY:Cheminot
DESCRIPTION:Monthly Voiture Business meeting on the third Tuesday of every month.\nMembers Only \nDinner 5:30 pm\nMeeting  6:30 pm  (Members only during meeting)
URL:http://www.voiture-99.com/event/cheminot-3/
LOCATION:Voiture 99 Chateau\, 2809 NE 78th Street\, Vancouver\, WA\, 98665-0637\, United States
CATEGORIES:Cheminot,Meeting
END:VEVENT
END:VCALENDAR