BEGIN:VCALENDAR
VERSION:2.0
PRODID:-//Voiture Locale 99 - ECPv6.15.20//NONSGML v1.0//EN
CALSCALE:GREGORIAN
METHOD:PUBLISH
X-ORIGINAL-URL:http://www.voiture-99.com
X-WR-CALDESC:Events for Voiture Locale 99
REFRESH-INTERVAL;VALUE=DURATION:PT1H
X-Robots-Tag:noindex
X-PUBLISHED-TTL:PT1H
BEGIN:VTIMEZONE
TZID:America/Los_Angeles
BEGIN:DAYLIGHT
TZOFFSETFROM:-0800
TZOFFSETTO:-0700
TZNAME:PDT
DTSTART:20150308T100000
END:DAYLIGHT
BEGIN:STANDARD
TZOFFSETFROM:-0700
TZOFFSETTO:-0800
TZNAME:PST
DTSTART:20151101T090000
END:STANDARD
BEGIN:DAYLIGHT
TZOFFSETFROM:-0800
TZOFFSETTO:-0700
TZNAME:PDT
DTSTART:20160313T100000
END:DAYLIGHT
BEGIN:STANDARD
TZOFFSETFROM:-0700
TZOFFSETTO:-0800
TZNAME:PST
DTSTART:20161106T090000
END:STANDARD
BEGIN:DAYLIGHT
TZOFFSETFROM:-0800
TZOFFSETTO:-0700
TZNAME:PDT
DTSTART:20170312T100000
END:DAYLIGHT
BEGIN:STANDARD
TZOFFSETFROM:-0700
TZOFFSETTO:-0800
TZNAME:PST
DTSTART:20171105T090000
END:STANDARD
BEGIN:DAYLIGHT
TZOFFSETFROM:-0800
TZOFFSETTO:-0700
TZNAME:PDT
DTSTART:20180311T100000
END:DAYLIGHT
BEGIN:STANDARD
TZOFFSETFROM:-0700
TZOFFSETTO:-0800
TZNAME:PST
DTSTART:20181104T090000
END:STANDARD
BEGIN:DAYLIGHT
TZOFFSETFROM:-0800
TZOFFSETTO:-0700
TZNAME:PDT
DTSTART:20190310T100000
END:DAYLIGHT
BEGIN:STANDARD
TZOFFSETFROM:-0700
TZOFFSETTO:-0800
TZNAME:PST
DTSTART:20191103T090000
END:STANDARD
BEGIN:DAYLIGHT
TZOFFSETFROM:-0800
TZOFFSETTO:-0700
TZNAME:PDT
DTSTART:20200308T100000
END:DAYLIGHT
BEGIN:STANDARD
TZOFFSETFROM:-0700
TZOFFSETTO:-0800
TZNAME:PST
DTSTART:20201101T090000
END:STANDARD
END:VTIMEZONE
BEGIN:VEVENT
DTSTART;TZID=America/Los_Angeles:20190319T183000
DTEND;TZID=America/Los_Angeles:20190319T200000
DTSTAMP:20260424T064534
CREATED:20190301T190758Z
LAST-MODIFIED:20190301T190758Z
UID:3729-1553020200-1553025600@www.voiture-99.com
SUMMARY:Voiture 99 Cheminot / Cabane 99 Cheminot
DESCRIPTION:Chateau opens at 4:00 pm \nFinancial Committee at 4:00 pm at the Bingo Parlor \nDinner at 5:30 pm \nMeetings at 6:30 pm
URL:http://www.voiture-99.com/event/voiture-99-cheminot-cabane-99-cheminot-18/
LOCATION:Voiture 99 Chateau\, 2809 NE 78th Street\, Vancouver\, WA\, 98665-0637\, United States
CATEGORIES:Americanism,Cheminot,Community Service,La Femmes,Meeting,Remembrance and Appreciation,Veterans Event
END:VEVENT
BEGIN:VEVENT
DTSTART;TZID=America/Los_Angeles:20181218T183000
DTEND;TZID=America/Los_Angeles:20181218T200000
DTSTAMP:20260424T064534
CREATED:20181202T171009Z
LAST-MODIFIED:20181202T171009Z
UID:3476-1545157800-1545163200@www.voiture-99.com
SUMMARY:Voiture 99 Cheminot / Cabane 99 Cheminot
DESCRIPTION:Voiture 99 Cheminot / Cabane 99 Cheminot \nChateau opens at 4:00 pm \nFinancial Committee at 4:00 pm at the Bingo Parlor \nDinner at 5:30 pm \nMeetings at 6:30 pm
URL:http://www.voiture-99.com/event/voiture-99-cheminot-cabane-99-cheminot-15/
LOCATION:Voiture 99 Chateau\, 2809 NE 78th Street\, Vancouver\, WA\, 98665-0637\, United States
CATEGORIES:Americanism,Cheminot,Community Service,Remembrance and Appreciation,Veterans Event
END:VEVENT
BEGIN:VEVENT
DTSTART;TZID=America/Los_Angeles:20180904T183000
DTEND;TZID=America/Los_Angeles:20180904T193000
DTSTAMP:20260424T064534
CREATED:20170314T014859Z
LAST-MODIFIED:20180903T003743Z
UID:1773-1536085800-1536089400@www.voiture-99.com
SUMMARY:Voiture 99 Cheminot / Cabane 99 Cheminot
DESCRIPTION:Voiture 99 Cheminot / Cabane 99 Cheminot \nMeeting 4:00 pm \nDinner at 5:30 pm \n 
URL:http://www.voiture-99.com/event/voiture-99-cheminot-cabane-99-cheminot-2/
LOCATION:Voiture 99 Chateau\, 2809 NE 78th Street\, Vancouver\, WA\, 98665-0637\, United States
CATEGORIES:Americanism,Cheminot,Community Service,Promenade,Remembrance and Appreciation,Veterans Event
END:VEVENT
BEGIN:VEVENT
DTSTART;VALUE=DATE:20180608
DTEND;VALUE=DATE:20180610
DTSTAMP:20260424T064534
CREATED:20180502T152656Z
LAST-MODIFIED:20180502T153301Z
UID:2924-1528416000-1528588799@www.voiture-99.com
SUMMARY:Grande Promenade
DESCRIPTION:Click HERE for downloadable registration form.
URL:http://www.voiture-99.com/event/grande-promenade/
LOCATION:American Legion Post 34\, 1029 West Sylvester Street\, Pasco\, WA\, 99301\, United States
CATEGORIES:Americanism,Cheminot,Community Service,Promenade,Veterans Event
END:VEVENT
BEGIN:VEVENT
DTSTART;TZID=America/Los_Angeles:20180515T183000
DTEND;TZID=America/Los_Angeles:20180515T193000
DTSTAMP:20260424T064534
CREATED:20180415T023042Z
LAST-MODIFIED:20180415T023042Z
UID:2858-1526409000-1526412600@www.voiture-99.com
SUMMARY:Voiture 99 Cheminot / Cabane 99 Cheminot
DESCRIPTION:Voiture 99 Cheminot / Cabane 99 Cheminot \nFinancial Committee at 4:00 pm at the Bingo Parlor \nDinner at 5:30 pm \nCheminot Meeting 6:30 pm
URL:http://www.voiture-99.com/event/voiture-99-cheminot-cabane-99-cheminot-9/
LOCATION:Voiture 99 Chateau\, 2809 NE 78th Street\, Vancouver\, WA\, 98665-0637\, United States
CATEGORIES:Americanism,Cheminot,Community Service,Meeting,Remembrance and Appreciation
END:VEVENT
BEGIN:VEVENT
DTSTART;TZID=America/Los_Angeles:20180417T183000
DTEND;TZID=America/Los_Angeles:20180417T193000
DTSTAMP:20260424T064534
CREATED:20170726T095535Z
LAST-MODIFIED:20180331T095743Z
UID:2246-1523989800-1523993400@www.voiture-99.com
SUMMARY:Voiture 99 Cheminot / Cabane 99 Cheminot
DESCRIPTION:Voiture 99 Cheminot / Cabane 99 Cheminot \nFinancial Committee at 4:00 pm at the Bingo Parlor \nDinner at 5:30 pm \nCheminot Meeting 6:30 pm \n 
URL:http://www.voiture-99.com/event/voiture-99-cheminot-cabane-99-cheminot-5/
LOCATION:Voiture 99 Chateau\, 2809 NE 78th Street\, Vancouver\, WA\, 98665-0637\, United States
CATEGORIES:Americanism,Cheminot,Veterans Day
END:VEVENT
BEGIN:VEVENT
DTSTART;TZID=America/Los_Angeles:20180320T183000
DTEND;TZID=America/Los_Angeles:20180320T193000
DTSTAMP:20260424T064534
CREATED:20180311T131356Z
LAST-MODIFIED:20180311T131356Z
UID:2770-1521570600-1521574200@www.voiture-99.com
SUMMARY:Voiture 99 Cheminot / Cabane 99 Cheminot
DESCRIPTION:Monthly Business meetings held on the third Tuesday of every month. \nDinner 5:30 pm\, Cost $8.00 \nMeetings  6:30 pm  (Members only during meetings) \n  \nChili w/corn bread\, salad & dessert
URL:http://www.voiture-99.com/event/voiture-99-cheminot-cabane-99-cheminot-8/
LOCATION:Voiture 99 Chateau\, 2809 NE 78th Street\, Vancouver\, WA\, 98665-0637\, United States
CATEGORIES:Americanism,Cheminot,La Femmes,Meeting,Remembrance and Appreciation
END:VEVENT
BEGIN:VEVENT
DTSTART;TZID=America/Los_Angeles:20180220T183000
DTEND;TZID=America/Los_Angeles:20180220T193000
DTSTAMP:20260424T064534
CREATED:20180126T043735Z
LAST-MODIFIED:20180126T043735Z
UID:2659-1519151400-1519155000@www.voiture-99.com
SUMMARY:Voiture 99 Cheminot / Cabane 99 Cheminot
DESCRIPTION:Monthly Business meetings held on the third Tuesday of every month. \nDinner 5:30 pm\, Cost $8.00 \nMeetings  6:30 pm  (Members only during meetings)
URL:http://www.voiture-99.com/event/voiture-99-cheminot-cabane-99-cheminot-7/
LOCATION:Voiture 99 Chateau\, 2809 NE 78th Street\, Vancouver\, WA\, 98665-0637\, United States
CATEGORIES:Americanism,Cheminot,Community Service,Meeting,Remembrance and Appreciation,Veterans Event
END:VEVENT
BEGIN:VEVENT
DTSTART;TZID=America/Los_Angeles:20180116T183000
DTEND;TZID=America/Los_Angeles:20180116T193000
DTSTAMP:20260424T064534
CREATED:20180103T093336Z
LAST-MODIFIED:20180103T093336Z
UID:2622-1516127400-1516131000@www.voiture-99.com
SUMMARY:Voiture 99 Cheminot / Cabane 99 Cheminot
DESCRIPTION:  \n  \n  \n  \n  \nMonthly Business meetings held on the third Tuesday of every month. \nDinner 5:30 pm\, Cost $8.00 \nMeetings  6:30 pm  (Members only during meetings) \n  \n 
URL:http://www.voiture-99.com/event/voiture-99-cheminot-cabane-99-cheminot-6/
LOCATION:Voiture 99 Chateau\, 2809 NE 78th Street\, Vancouver\, WA\, 98665-0637\, United States
CATEGORIES:Americanism,Cheminot,Community Service,La Femmes,Meeting
END:VEVENT
BEGIN:VEVENT
DTSTART;TZID=America/Los_Angeles:20171219T183000
DTEND;TZID=America/Los_Angeles:20171219T193000
DTSTAMP:20260424T064534
CREATED:20170314T014613Z
LAST-MODIFIED:20171207T151320Z
UID:1770-1513708200-1513711800@www.voiture-99.com
SUMMARY:Voiture 99 Cheminot / Cabane 99 Cheminot
DESCRIPTION:Monthly Voiture Business meeting on the third Tuesday of every month.\nMembers Only \nDinner 5:30 pm\nMeeting  6:30 pm  (Members only during meeting)
URL:http://www.voiture-99.com/event/voiture-99-cheminot-cabane-99-cheminot/
LOCATION:Voiture 99 Chateau\, 2809 NE 78th Street\, Vancouver\, WA\, 98665-0637\, United States
CATEGORIES:Americanism,Cheminot,Meeting,Remembrance and Appreciation,Veterans Event
END:VEVENT
BEGIN:VEVENT
DTSTART;TZID=America/Los_Angeles:20171017T183000
DTEND;TZID=America/Los_Angeles:20171017T193000
DTSTAMP:20260424T064534
CREATED:20161222T080919Z
LAST-MODIFIED:20170908T015738Z
UID:1433-1508265000-1508268600@www.voiture-99.com
SUMMARY:Voiture 99 Cheminot / Cabane 99 Cheminot
DESCRIPTION:Monthly Voiture Business meeting held on the third Tuesday of every month. \nDinner 5:30 pm\, Cost $8.00\nMeeting  6:30 pm  (Members only during meeting)
URL:http://www.voiture-99.com/event/cheminot-4/
LOCATION:Voiture 99 Chateau\, 2809 NE 78th Street\, Vancouver\, WA\, 98665-0637\, United States
CATEGORIES:Americanism,Cheminot,Meeting,Remembrance and Appreciation,Veterans Event
END:VEVENT
BEGIN:VEVENT
DTSTART;TZID=America/Los_Angeles:20170905T183000
DTEND;TZID=America/Los_Angeles:20170905T190000
DTSTAMP:20260424T064534
CREATED:20170726T100952Z
LAST-MODIFIED:20170813T171308Z
UID:2248-1504636200-1504638000@www.voiture-99.com
SUMMARY:Voiture 99 Promenade / Voiture 99 Cheminot
DESCRIPTION:This Is a combination Promenade and Cheminot due to many Officers being gone to the National Convention.\nVoiture 99 Cheminot / Cabane 99 Cheminot\nVoiture 99 Promenade / Cabane 99 Rendezvous \nChateau opens at 4:00 pm \nFinancial Committee at 4:00 pm at the Bingo Parlor \nDinner at 5:30 pm\, Cost: $8.00 \nMeetings 6:30 pm
URL:http://www.voiture-99.com/event/voiture-99-promenade-voiture-99-cheminot/
LOCATION:Voiture 99 Chateau\, 2809 NE 78th Street\, Vancouver\, WA\, 98665-0637\, United States
CATEGORIES:Americanism,Cheminot,Promenade,Remembrance and Appreciation,Veterans Event
END:VEVENT
BEGIN:VEVENT
DTSTART;TZID=America/Los_Angeles:20170718T183000
DTEND;TZID=America/Los_Angeles:20170718T193000
DTSTAMP:20260424T064534
CREATED:20170314T020111Z
LAST-MODIFIED:20170314T020111Z
UID:1777-1500402600-1500406200@www.voiture-99.com
SUMMARY:Voiture 99 Cheminot / Cabane 99 Cheminot
DESCRIPTION:Voiture 99 Cheminot / Cabane 99 Cheminot \nDinner at 5:30 pm \nMeeting 6:30 pm
URL:http://www.voiture-99.com/event/voiture-99-cheminot-cabane-99-cheminot-4/
LOCATION:Voiture 99 Chateau\, 2809 NE 78th Street\, Vancouver\, WA\, 98665-0637\, United States
CATEGORIES:Americanism,Cheminot,Community Service,La Femmes,Meeting,Remembrance and Appreciation,Veterans Event
END:VEVENT
BEGIN:VEVENT
DTSTART;TZID=America/Los_Angeles:20170117T183000
DTEND;TZID=America/Los_Angeles:20170117T200000
DTSTAMP:20260424T064534
CREATED:20161222T080513Z
LAST-MODIFIED:20170117T032902Z
UID:1431-1484677800-1484683200@www.voiture-99.com
SUMMARY:Cheminot-Cancelled due to Weather
DESCRIPTION:CANCELLED \nDUE TO WEATHER \nMonthly Voiture Business meeting held on the third Tuesday of every month. \nDinner 5:30 pm\, Cost $8.00\nMeeting  6:30 pm  (Members only during meeting)
URL:http://www.voiture-99.com/event/cheminot-2/
LOCATION:Voiture 99 Chateau\, 2809 NE 78th Street\, Vancouver\, WA\, 98665-0637\, United States
CATEGORIES:Cheminot,Meeting,Veterans Event
END:VEVENT
BEGIN:VEVENT
DTSTART;TZID=America/Los_Angeles:20161220T173000
DTEND;TZID=America/Los_Angeles:20161220T200000
DTSTAMP:20260424T064534
CREATED:20160922T021033Z
LAST-MODIFIED:20160922T021033Z
UID:1007-1482255000-1482264000@www.voiture-99.com
SUMMARY:Cheminot
DESCRIPTION:Monthly Voiture Business meeting on the third Tuesday of every month.\nMembers Only \nDinner 5:30 pm\nMeeting  6:30 pm  (Members only during meeting)
URL:http://www.voiture-99.com/event/cheminot-3/
LOCATION:Voiture 99 Chateau\, 2809 NE 78th Street\, Vancouver\, WA\, 98665-0637\, United States
CATEGORIES:Cheminot,Meeting
END:VEVENT
END:VCALENDAR