BEGIN:VCALENDAR
VERSION:2.0
PRODID:-//Voiture Locale 99 - ECPv6.15.20//NONSGML v1.0//EN
CALSCALE:GREGORIAN
METHOD:PUBLISH
X-ORIGINAL-URL:http://www.voiture-99.com
X-WR-CALDESC:Events for Voiture Locale 99
REFRESH-INTERVAL;VALUE=DURATION:PT1H
X-Robots-Tag:noindex
X-PUBLISHED-TTL:PT1H
BEGIN:VTIMEZONE
TZID:America/Los_Angeles
BEGIN:DAYLIGHT
TZOFFSETFROM:-0800
TZOFFSETTO:-0700
TZNAME:PDT
DTSTART:20160313T100000
END:DAYLIGHT
BEGIN:STANDARD
TZOFFSETFROM:-0700
TZOFFSETTO:-0800
TZNAME:PST
DTSTART:20161106T090000
END:STANDARD
BEGIN:DAYLIGHT
TZOFFSETFROM:-0800
TZOFFSETTO:-0700
TZNAME:PDT
DTSTART:20170312T100000
END:DAYLIGHT
BEGIN:STANDARD
TZOFFSETFROM:-0700
TZOFFSETTO:-0800
TZNAME:PST
DTSTART:20171105T090000
END:STANDARD
BEGIN:DAYLIGHT
TZOFFSETFROM:-0800
TZOFFSETTO:-0700
TZNAME:PDT
DTSTART:20180311T100000
END:DAYLIGHT
BEGIN:STANDARD
TZOFFSETFROM:-0700
TZOFFSETTO:-0800
TZNAME:PST
DTSTART:20181104T090000
END:STANDARD
END:VTIMEZONE
BEGIN:VEVENT
DTSTART;TZID=America/Los_Angeles:20170904T100000
DTEND;TZID=America/Los_Angeles:20170904T160000
DTSTAMP:20260423T003414
CREATED:20170827T201431Z
LAST-MODIFIED:20170831T163652Z
UID:2311-1504519200-1504540800@www.voiture-99.com
SUMMARY:Voiture 99 Veterans Car Show
DESCRIPTION:Beautiful cars\, food\, drinks\, music and a great time!
URL:http://www.voiture-99.com/event/voiture-99-car-show/
LOCATION:Voiture 99 Chateau\, 2809 NE 78th Street\, Vancouver\, WA\, 98665-0637\, United States
CATEGORIES:Car Show,Community Event,Community Service,Fundraiser,Remembrance and Appreciation
END:VEVENT
BEGIN:VEVENT
DTSTART;VALUE=DATE:20170826
DTEND;VALUE=DATE:20170827
DTSTAMP:20260423T003414
CREATED:20170223T063644Z
LAST-MODIFIED:20170223T063644Z
UID:1612-1503705600-1503791999@www.voiture-99.com
SUMMARY:CCVAC 3rd Annual Warriors & Wheels Cruise In
DESCRIPTION:
URL:http://www.voiture-99.com/event/ccvac-3rd-annual-warriors-wheels-cruise-in/
LOCATION:WA
CATEGORIES:Car Show,Community Event,Fundraiser
END:VEVENT
BEGIN:VEVENT
DTSTART;TZID=America/Los_Angeles:20170825T073000
DTEND;TZID=America/Los_Angeles:20170825T090000
DTSTAMP:20260423T003414
CREATED:20170803T235259Z
LAST-MODIFIED:20170803T235259Z
UID:2268-1503646200-1503651600@www.voiture-99.com
SUMMARY:Members & Guest Breakfast
DESCRIPTION:Members & Guest Breakfast\nMenu: Breakfast off the Grill and eggs to order\n7:30 am to 9:00 am\nCost $8.00
URL:http://www.voiture-99.com/event/members-guest-breakfast-23/
LOCATION:Voiture 99 Chateau\, 2809 NE 78th Street\, Vancouver\, WA\, 98665-0637\, United States
CATEGORIES:Americanism,Car Show,Community Event,Community Service
END:VEVENT
BEGIN:VEVENT
DTSTART;TZID=America/Los_Angeles:20170809T160000
DTEND;TZID=America/Los_Angeles:20170809T200000
DTSTAMP:20260423T003414
CREATED:20170803T230229Z
LAST-MODIFIED:20170803T230229Z
UID:2253-1502294400-1502308800@www.voiture-99.com
SUMMARY:Loci to the Beaches Car Show
DESCRIPTION:Ride the Loci to the Beaches Car Show at PIR. If you ride over on the Loci you get free admission to the event.  If you’re interested in riding contact Jim Resleff for the exact time to meet before leaving. \nFor more information on the Cruise-In click here.   \nGo to Beaches Restaurant Website here. \n 
URL:http://www.voiture-99.com/event/loci-to-the-beaches-car-show/
LOCATION:Voiture 99 Chateau\, 2809 NE 78th Street\, Vancouver\, WA\, 98665-0637\, United States
CATEGORIES:Americanism,Car Show,Community Event,Community Service
END:VEVENT
BEGIN:VEVENT
DTSTART;TZID=America/Los_Angeles:20170715T100000
DTEND;TZID=America/Los_Angeles:20170715T220000
DTSTAMP:20260423T003414
CREATED:20170708T011330Z
LAST-MODIFIED:20170708T011330Z
UID:2203-1500112800-1500156000@www.voiture-99.com
SUMMARY:Cruise the Couve
DESCRIPTION:Saturday\, July 15\, 2017 – \n10:00am to 10:00pm\n \n\n\n\n\n\nThanks to a number of local businesses stepping up to manage and sponsor the event\, the Main Street car culture phenomenon formerly known as Cruisin’ the Gut returns this year with a new name. \nJoin us as we celebrate this classic Vancouver tradition of cruising Main Street on a Saturday night! Show off your sweet ride in the cruise or grab a lawn chair and watch the show from the sidewalk. There will be entertainment\, giveaways\, food and more! \nThe cruise occurs on Main Street in downtown and uptown Vancouver\, between 28th Street and 6th Street. All normal traffic rules apply\, so keep it cool! \nHOT RODS\, CLASSICS & KUSTOMS PREFERRED\, but as long as it looks cool and/or sounds cool\, bring it out! \nThe event officially starts at 10 a.m.\, but people tend to show up as early as 6 a.m. to claim a great sidewalk viewing spot and then stay all day! \nLearn more.
URL:http://www.voiture-99.com/event/cruise-the-couve/
LOCATION:WA
CATEGORIES:Car Show,Community Event,Community Service
END:VEVENT
BEGIN:VEVENT
DTSTART;VALUE=DATE:20170712
DTEND;VALUE=DATE:20170713
DTSTAMP:20260423T003414
CREATED:20170517T091734Z
LAST-MODIFIED:20170517T091734Z
UID:2134-1499817600-1499903999@www.voiture-99.com
SUMMARY:V-99 Loci to Beaches Car Show
DESCRIPTION:Check with Jim Resleff for the time to meet at the Chateau before leaving for the Beaches Car Show. \nVoyageures and guests are welcome to ride along.  Contact Jim and make sure there is room to ride along.
URL:http://www.voiture-99.com/event/v-99-loci-to-beaches-car-show/
LOCATION:Voiture 99 Chateau\, 2809 NE 78th Street\, Vancouver\, WA\, 98665-0637\, United States
CATEGORIES:Americanism,Car Show,Community Event,Community Service,Loci
END:VEVENT
BEGIN:VEVENT
DTSTART;VALUE=DATE:20170614
DTEND;VALUE=DATE:20170615
DTSTAMP:20260423T003414
CREATED:20170517T084031Z
LAST-MODIFIED:20170517T094037Z
UID:2126-1497398400-1497484799@www.voiture-99.com
SUMMARY:V-99 Loci to Beaches Car Show
DESCRIPTION:Check with Bob Stadey for the time to meet at the Chateau before leaving for the Beaches Car Show. \nVoyageures and guests are welcome to ride along.  Contact Bob and make sure there is room to ride along.
URL:http://www.voiture-99.com/event/v-99-loci-4/
LOCATION:Voiture 99 Chateau\, 2809 NE 78th Street\, Vancouver\, WA\, 98665-0637\, United States
CATEGORIES:Americanism,Car Show,Community Event,Community Service,Loci
END:VEVENT
BEGIN:VEVENT
DTSTART;TZID=America/Los_Angeles:20170529T093000
DTEND;TZID=America/Los_Angeles:20170529T150000
DTSTAMP:20260423T003414
CREATED:20170115T125223Z
LAST-MODIFIED:20170314T030440Z
UID:1531-1496050200-1496070000@www.voiture-99.com
SUMMARY:3rd Annual VFW Car-Truck-Bike Show
DESCRIPTION:Event:   3rd Annual Veterans of foreign Wars Post 2666  “Memorial Day Salute to Veterans”  Car-Truck-Bike Show \nWhen:  Memorial Day Monday May 29\, 2017 \nWhere:  Hare Field  1151 NE Grant St.  Hillsboro Or  97124 \nTime:  9:30 am to 3:00 pm       Gates open at 7:30 for Show Vehicles and Vendors (grass parking) \nHosted by:  VFW Post 2666 \nFree admission to spectators! \nVehicle Fees:  $15 Pre-registration by May 10th and $20 at the gate \nOver 200 Cars\, Trucks & Motorcycles\, Active & Vintage Vehicles\, SWAT Car\, Police & Fire Vehicles\, PT658 Boat Torpedo\, …. Plus Vendors\, Food\, Trophies\, Raffle\, Classic Tracks DJ\, Corral Creek Blue Grass Band\, Kids Activities\, Burt Daniels Traveling Military Museum\, & Memorial Day Salute Program \nWho you are helping:  By attending or registering a vehicle you will be helping our local veterans and their families. \nThanks for your help. \nBear   Member O.P.V.A. \nLynn Kirwan  ( Lead contact ) \nVolunteer VFW Post 2666 Hillsboro/Salvation Army Veterans & Family Center \n503-780-4679
URL:http://www.voiture-99.com/event/3rd-annual-veterans-of-foreign-wars-post-2666-memorial-day-salute-to-veterans-car-truck-bike-show/
LOCATION:WA
CATEGORIES:Car Show,Community Event,Community Service,Fundraiser,Memorial Day
ORGANIZER;CN="VFW Post 2666":MAILTO:bear166@yahoo.com
END:VEVENT
END:VCALENDAR