BEGIN:VCALENDAR
VERSION:2.0
PRODID:-//Voiture Locale 99 - ECPv6.15.20//NONSGML v1.0//EN
CALSCALE:GREGORIAN
METHOD:PUBLISH
X-WR-CALNAME:Voiture Locale 99
X-ORIGINAL-URL:http://www.voiture-99.com
X-WR-CALDESC:Events for Voiture Locale 99
REFRESH-INTERVAL;VALUE=DURATION:PT1H
X-Robots-Tag:noindex
X-PUBLISHED-TTL:PT1H
BEGIN:VTIMEZONE
TZID:America/Los_Angeles
BEGIN:DAYLIGHT
TZOFFSETFROM:-0800
TZOFFSETTO:-0700
TZNAME:PDT
DTSTART:20160313T100000
END:DAYLIGHT
BEGIN:STANDARD
TZOFFSETFROM:-0700
TZOFFSETTO:-0800
TZNAME:PST
DTSTART:20161106T090000
END:STANDARD
BEGIN:DAYLIGHT
TZOFFSETFROM:-0800
TZOFFSETTO:-0700
TZNAME:PDT
DTSTART:20170312T100000
END:DAYLIGHT
BEGIN:STANDARD
TZOFFSETFROM:-0700
TZOFFSETTO:-0800
TZNAME:PST
DTSTART:20171105T090000
END:STANDARD
BEGIN:DAYLIGHT
TZOFFSETFROM:-0800
TZOFFSETTO:-0700
TZNAME:PDT
DTSTART:20180311T100000
END:DAYLIGHT
BEGIN:STANDARD
TZOFFSETFROM:-0700
TZOFFSETTO:-0800
TZNAME:PST
DTSTART:20181104T090000
END:STANDARD
BEGIN:DAYLIGHT
TZOFFSETFROM:-0800
TZOFFSETTO:-0700
TZNAME:PDT
DTSTART:20190310T100000
END:DAYLIGHT
BEGIN:STANDARD
TZOFFSETFROM:-0700
TZOFFSETTO:-0800
TZNAME:PST
DTSTART:20191103T090000
END:STANDARD
BEGIN:DAYLIGHT
TZOFFSETFROM:-0800
TZOFFSETTO:-0700
TZNAME:PDT
DTSTART:20200308T100000
END:DAYLIGHT
BEGIN:STANDARD
TZOFFSETFROM:-0700
TZOFFSETTO:-0800
TZNAME:PST
DTSTART:20201101T090000
END:STANDARD
BEGIN:DAYLIGHT
TZOFFSETFROM:-0800
TZOFFSETTO:-0700
TZNAME:PDT
DTSTART:20210314T100000
END:DAYLIGHT
BEGIN:STANDARD
TZOFFSETFROM:-0700
TZOFFSETTO:-0800
TZNAME:PST
DTSTART:20211107T090000
END:STANDARD
BEGIN:DAYLIGHT
TZOFFSETFROM:-0800
TZOFFSETTO:-0700
TZNAME:PDT
DTSTART:20220313T100000
END:DAYLIGHT
BEGIN:STANDARD
TZOFFSETFROM:-0700
TZOFFSETTO:-0800
TZNAME:PST
DTSTART:20221106T090000
END:STANDARD
BEGIN:DAYLIGHT
TZOFFSETFROM:-0800
TZOFFSETTO:-0700
TZNAME:PDT
DTSTART:20230312T100000
END:DAYLIGHT
BEGIN:STANDARD
TZOFFSETFROM:-0700
TZOFFSETTO:-0800
TZNAME:PST
DTSTART:20231105T090000
END:STANDARD
END:VTIMEZONE
BEGIN:VEVENT
DTSTART;TZID=America/Los_Angeles:20220905T100000
DTEND;TZID=America/Los_Angeles:20220905T150000
DTSTAMP:20260423T053953
CREATED:20220829T185036Z
LAST-MODIFIED:20220829T213845Z
UID:7453-1662372000-1662390000@www.voiture-99.com
SUMMARY:40 et 8 Annual Labor Day Car Show
DESCRIPTION:40et8 Annual Labor Day Car Show is taking place on Monday\, September 5th from 10am-3pm. The address is 2809 NE 78th Street\, Vancouver WA. There is a $20.00 Car Entry Fee. There is Vendor Space available for $30.00. There will be Trophies\, Vendors\, Music\, Food & Beer. Please contact Earl Edwards for more information or to be a participant or vendor at 360-513-8251.
URL:http://www.voiture-99.com/event/40-et-8-annual-labor-day-car-show/
LOCATION:Voiture 99 Chateau\, 2809 NE 78th Street\, Vancouver\, WA\, 98665-0637\, United States
CATEGORIES:Car Show,Community Event,Entertainment,Fundraiser
END:VEVENT
BEGIN:VEVENT
DTSTART;TZID=America/Los_Angeles:20200825T093000
DTEND;TZID=America/Los_Angeles:20200825T150000
DTSTAMP:20260423T053953
CREATED:20200328T222009Z
LAST-MODIFIED:20200512T055541Z
UID:4902-1598347800-1598367600@www.voiture-99.com
SUMMARY:9th Annual Salute to Veterans Car & Motorcycle Show - Cancelled
DESCRIPTION:
URL:http://www.voiture-99.com/event/9th-annual-salute-to-veterans-car-motorcycle-show/
LOCATION:WA
CATEGORIES:Americanism,Car Show,Community Event,Community Service,Entertainment,Remembrance and Appreciation
END:VEVENT
BEGIN:VEVENT
DTSTART;VALUE=DATE:20200613
DTEND;VALUE=DATE:20200614
DTSTAMP:20260423T053953
CREATED:20200208T002557Z
LAST-MODIFIED:20200504T211447Z
UID:4779-1592006400-1592092799@www.voiture-99.com
SUMMARY:7th Annual Heroes Night Celebration and Car Show - Cancelled
DESCRIPTION:Sadly we have decided that it is necessary to cancel this years event.  With the situation that we are presented with we do not think that we will be able to safely host the event with the numbers that we generally have in attendance. \nWe still want to thank our area’s heroes – be they veterans\, police\, doctors\, nurses and all healthcare workers/first responders – each and every day! \nHopefully we will see you at our event in June 2021.
URL:http://www.voiture-99.com/event/7th-annual-heroes-night-celebration-and-car-show/
LOCATION:WA
CATEGORIES:Americanism,Car Show,Community Event,Community Service,Education,Fundraiser,History,Remembrance and Appreciation
END:VEVENT
BEGIN:VEVENT
DTSTART;TZID=America/Los_Angeles:20200328T120000
DTEND;TZID=America/Los_Angeles:20200328T133000
DTSTAMP:20260423T053953
CREATED:20200208T003321Z
LAST-MODIFIED:20200208T003321Z
UID:4781-1585396800-1585402200@www.voiture-99.com
SUMMARY:Annual Commemoration for Vietnam War Veterans
DESCRIPTION:MORE INFORMATION TO FOLLOW AS IT GETS CLOSER TO THE EVENT DATE.
URL:http://www.voiture-99.com/event/annual-commemoration-for-vietnam-war-veterans/
LOCATION:East Vancouver Costco\, 19610 SE 1St Street \, Vancouver \, WA\,  98607 \, United States
CATEGORIES:Americanism,Car Show,Community Event,Community Service,Fundraiser,Remembrance and Appreciation,Veterans Event
END:VEVENT
BEGIN:VEVENT
DTSTART;TZID=America/Los_Angeles:20191026T120000
DTEND;TZID=America/Los_Angeles:20191026T190000
DTSTAMP:20260423T053953
CREATED:20191002T230108Z
LAST-MODIFIED:20191010T202210Z
UID:4341-1572091200-1572116400@www.voiture-99.com
SUMMARY:Chateau closed Saturday
DESCRIPTION:
URL:http://www.voiture-99.com/event/saturday-chateau-hours-50/
LOCATION:Voiture 99 Chateau\, 2809 NE 78th Street\, Vancouver\, WA\, 98665-0637\, United States
CATEGORIES:Car Show
END:VEVENT
BEGIN:VEVENT
DTSTART;VALUE=DATE:20190902
DTEND;VALUE=DATE:20190903
DTSTAMP:20260423T053953
CREATED:20190814T221721Z
LAST-MODIFIED:20190815T233241Z
UID:4162-1567382400-1567468799@www.voiture-99.com
SUMMARY:2nd Annual 40et8 Labor Day Car Show
DESCRIPTION:
URL:http://www.voiture-99.com/event/annual-40et8-labor-day-car-show/
LOCATION:Voiture 99 Chateau\, 2809 NE 78th Street\, Vancouver\, WA\, 98665-0637\, United States
CATEGORIES:Americanism,Car Show,Community Event,Community Service,Fundraiser,Remembrance and Appreciation
END:VEVENT
BEGIN:VEVENT
DTSTART;TZID=America/Los_Angeles:20190827T170000
DTEND;TZID=America/Los_Angeles:20190827T210000
DTSTAMP:20260423T053953
CREATED:20190721T222026Z
LAST-MODIFIED:20190721T222026Z
UID:4142-1566925200-1566939600@www.voiture-99.com
SUMMARY:40 et 8 Cruise Inn
DESCRIPTION:
URL:http://www.voiture-99.com/event/40-et-8-cruise-inn-14/
LOCATION:Voiture 99 Chateau\, 2809 NE 78th Street\, Vancouver\, WA\, 98665-0637\, United States
CATEGORIES:Americanism,Car Show,Community Event,Community Service
END:VEVENT
BEGIN:VEVENT
DTSTART;TZID=America/Los_Angeles:20190820T170000
DTEND;TZID=America/Los_Angeles:20190820T210000
DTSTAMP:20260423T053953
CREATED:20190721T215730Z
LAST-MODIFIED:20190721T215730Z
UID:4138-1566320400-1566334800@www.voiture-99.com
SUMMARY:40 et 8 Cruise Inn
DESCRIPTION:
URL:http://www.voiture-99.com/event/40-et-8-cruise-inn-12/
LOCATION:Voiture 99 Chateau\, 2809 NE 78th Street\, Vancouver\, WA\, 98665-0637\, United States
CATEGORIES:Americanism,Car Show,Community Event,Community Service
END:VEVENT
BEGIN:VEVENT
DTSTART;TZID=America/Los_Angeles:20190813T170000
DTEND;TZID=America/Los_Angeles:20190813T210000
DTSTAMP:20260423T053953
CREATED:20190721T215548Z
LAST-MODIFIED:20190721T215548Z
UID:4136-1565715600-1565730000@www.voiture-99.com
SUMMARY:40 et 8 Cruise Inn
DESCRIPTION:
URL:http://www.voiture-99.com/event/40-et-8-cruise-inn-11/
LOCATION:Voiture 99 Chateau\, 2809 NE 78th Street\, Vancouver\, WA\, 98665-0637\, United States
CATEGORIES:Americanism,Car Show,Community Event,Community Service
END:VEVENT
BEGIN:VEVENT
DTSTART;TZID=America/Los_Angeles:20190806T160000
DTEND;TZID=America/Los_Angeles:20190806T210000
DTSTAMP:20260423T053953
CREATED:20190721T214642Z
LAST-MODIFIED:20190721T214642Z
UID:4134-1565107200-1565125200@www.voiture-99.com
SUMMARY:40 et 8 Cruise Inn
DESCRIPTION:
URL:http://www.voiture-99.com/event/40-et-8-cruise-inn-10/
LOCATION:Voiture 99 Chateau\, 2809 NE 78th Street\, Vancouver\, WA\, 98665-0637\, United States
CATEGORIES:Americanism,Car Show,Community Event,Community Service
END:VEVENT
BEGIN:VEVENT
DTSTART;TZID=America/Los_Angeles:20190730T160000
DTEND;TZID=America/Los_Angeles:20190730T210000
DTSTAMP:20260423T053953
CREATED:20190619T204446Z
LAST-MODIFIED:20190619T204656Z
UID:4041-1564502400-1564520400@www.voiture-99.com
SUMMARY:40 et 8 Cruise Inn
DESCRIPTION:
URL:http://www.voiture-99.com/event/40-et-8-cruise-inn-9/
LOCATION:Voiture 99 Chateau\, 2809 NE 78th Street\, Vancouver\, WA\, 98665-0637\, United States
CATEGORIES:Americanism,Car Show,Community Event,Community Service,Remembrance and Appreciation
END:VEVENT
BEGIN:VEVENT
DTSTART;TZID=America/Los_Angeles:20190723T160000
DTEND;TZID=America/Los_Angeles:20190723T210000
DTSTAMP:20260423T053953
CREATED:20190619T204238Z
LAST-MODIFIED:20190619T204238Z
UID:4039-1563897600-1563915600@www.voiture-99.com
SUMMARY:40 et 8 Cruise Inn
DESCRIPTION:
URL:http://www.voiture-99.com/event/40-et-8-cruise-inn-8/
LOCATION:Voiture 99 Chateau\, 2809 NE 78th Street\, Vancouver\, WA\, 98665-0637\, United States
CATEGORIES:Americanism,Car Show,Community Event,Community Service,Remembrance and Appreciation
END:VEVENT
BEGIN:VEVENT
DTSTART;TZID=America/Los_Angeles:20190721T170000
DTEND;TZID=America/Los_Angeles:20190721T210000
DTSTAMP:20260423T053953
CREATED:20190721T215908Z
LAST-MODIFIED:20190721T215908Z
UID:4140-1563728400-1563742800@www.voiture-99.com
SUMMARY:40 et 8 Cruise Inn
DESCRIPTION:
URL:http://www.voiture-99.com/event/40-et-8-cruise-inn-13/
LOCATION:Voiture 99 Chateau\, 2809 NE 78th Street\, Vancouver\, WA\, 98665-0637\, United States
CATEGORIES:Americanism,Car Show,Community Event,Community Service
END:VEVENT
BEGIN:VEVENT
DTSTART;TZID=America/Los_Angeles:20190720T110000
DTEND;TZID=America/Los_Angeles:20190720T220000
DTSTAMP:20260423T053953
CREATED:20190703T210544Z
LAST-MODIFIED:20190703T210544Z
UID:4104-1563620400-1563660000@www.voiture-99.com
SUMMARY:CRUISE THE COUVE
DESCRIPTION:
URL:http://www.voiture-99.com/event/cruise-the-couve-2/
LOCATION:Downtown Vancouver Washington\, 16th Street and Main Street\, Vancouver\, United States
CATEGORIES:Americanism,Car Show,Community Event,Community Service,Remembrance and Appreciation
END:VEVENT
BEGIN:VEVENT
DTSTART;TZID=America/Los_Angeles:20190716T160000
DTEND;TZID=America/Los_Angeles:20190716T210000
DTSTAMP:20260423T053953
CREATED:20190619T204021Z
LAST-MODIFIED:20190619T204021Z
UID:4037-1563292800-1563310800@www.voiture-99.com
SUMMARY:40 et 8 Cruise Inn
DESCRIPTION:
URL:http://www.voiture-99.com/event/40-et-8-cruise-inn-7/
LOCATION:Voiture 99 Chateau\, 2809 NE 78th Street\, Vancouver\, WA\, 98665-0637\, United States
CATEGORIES:Americanism,Car Show,Community Event,Community Service,Remembrance and Appreciation
END:VEVENT
BEGIN:VEVENT
DTSTART;TZID=America/Los_Angeles:20190709T160000
DTEND;TZID=America/Los_Angeles:20190709T210000
DTSTAMP:20260423T053953
CREATED:20190619T203740Z
LAST-MODIFIED:20190619T203740Z
UID:4035-1562688000-1562706000@www.voiture-99.com
SUMMARY:40 et 8 Cruise Inn
DESCRIPTION:
URL:http://www.voiture-99.com/event/40-et-8-cruise-inn-6/
LOCATION:Voiture 99 Chateau\, 2809 NE 78th Street\, Vancouver\, WA\, 98665-0637\, United States
CATEGORIES:Americanism,Car Show,Community Event,Community Service,Remembrance and Appreciation
END:VEVENT
BEGIN:VEVENT
DTSTART;TZID=America/Los_Angeles:20190702T160000
DTEND;TZID=America/Los_Angeles:20190702T210000
DTSTAMP:20260423T053953
CREATED:20190619T203508Z
LAST-MODIFIED:20190619T203508Z
UID:4033-1562083200-1562101200@www.voiture-99.com
SUMMARY:40 et 8 Cruise Inn
DESCRIPTION:
URL:http://www.voiture-99.com/event/40-et-8-cruise-inn-5/
LOCATION:Voiture 99 Chateau\, 2809 NE 78th Street\, Vancouver\, WA\, 98665-0637\, United States
CATEGORIES:Americanism,Car Show,Community Event,Community Service,Remembrance and Appreciation
END:VEVENT
BEGIN:VEVENT
DTSTART;TZID=America/Los_Angeles:20190604T160000
DTEND;TZID=America/Los_Angeles:20190604T210000
DTSTAMP:20260423T053953
CREATED:20190526T194529Z
LAST-MODIFIED:20190526T194529Z
UID:3960-1559664000-1559682000@www.voiture-99.com
SUMMARY:40 et 8 Cruise Inn
DESCRIPTION:
URL:http://www.voiture-99.com/event/40-et-8-cruise-inn/
LOCATION:Voiture 99 Chateau\, 2809 NE 78th Street\, Vancouver\, WA\, 98665-0637\, United States
CATEGORIES:Americanism,Car Show,Community Event,Community Service,Fundraiser
END:VEVENT
BEGIN:VEVENT
DTSTART;TZID=America/Los_Angeles:20180903T100000
DTEND;TZID=America/Los_Angeles:20180903T150000
DTSTAMP:20260423T053953
CREATED:20180406T070046Z
LAST-MODIFIED:20180406T070046Z
UID:2829-1535968800-1535986800@www.voiture-99.com
SUMMARY:Veterans Car and Motorcycle Show
DESCRIPTION:
URL:http://www.voiture-99.com/event/veterans-car-and-motorcycle-show/
LOCATION:Voiture 99 Chateau\, 2809 NE 78th Street\, Vancouver\, WA\, 98665-0637\, United States
CATEGORIES:Americanism,Car Show,Community Event,Community Service,Fundraiser
END:VEVENT
BEGIN:VEVENT
DTSTART;TZID=America/Los_Angeles:20180825T100000
DTEND;TZID=America/Los_Angeles:20180825T140000
DTSTAMP:20260423T053953
CREATED:20180703T083816Z
LAST-MODIFIED:20180703T083816Z
UID:3151-1535191200-1535205600@www.voiture-99.com
SUMMARY:3rd Annual "Warrors and Wheels" Car Show
DESCRIPTION:
URL:http://www.voiture-99.com/event/3rd-annual-warrors-and-wheels-car-show/
LOCATION:The Field\, 164th Avenue and 29th Street\, Vancouver\, WA\, 98684\, United States
CATEGORIES:Car Show,Community Event,Community Service,Fundraiser,Remembrance and Appreciation
END:VEVENT
BEGIN:VEVENT
DTSTART;TZID=America/Los_Angeles:20180819T090000
DTEND;TZID=America/Los_Angeles:20180819T150000
DTSTAMP:20260423T053953
CREATED:20180611T162553Z
LAST-MODIFIED:20180611T162553Z
UID:3070-1534669200-1534690800@www.voiture-99.com
SUMMARY:Kruzin 4 Kids
DESCRIPTION:
URL:http://www.voiture-99.com/event/kruzin-4-kids/
LOCATION:Vancouver Elks #823\, 11605 SE McGillivary Blvd\, Vancouver\, WA\, United States
CATEGORIES:Car Show,Community Event,Community Service,Fundraiser
END:VEVENT
BEGIN:VEVENT
DTSTART;TZID=America/Los_Angeles:20180811T100000
DTEND;TZID=America/Los_Angeles:20180811T150000
DTSTAMP:20260423T053953
CREATED:20180116T101823Z
LAST-MODIFIED:20180116T102454Z
UID:2638-1533981600-1533999600@www.voiture-99.com
SUMMARY:7th Annual Salute to Veterans … Car & Motorcycle Show
DESCRIPTION:This is a Car and Motorcycle Show that should definitely be on your schedule!  It’s the 7th Annual Salute to Veterans Car & Motorcycle Show.  We have produced the Veterans Car Shows for the past 6 years.  The first 5 benefited the Salvation Army Veterans & Family Center and last year the Hillsboro VFW was the beneficiary.  We have grown from 90 cars in 2012 to over 400 in 2017 and have raised over $164\,000 for local homeless veterans and their families. This year will be no different. The funds raised will go to local projects mostly run by volunteers.  \n We have grown up after 6 years and have made a very exciting alliance … The Multnomah Hot Rod Council (MHRC) will be presenting our Show this year!       \n We have always had a wonderful showing of support from all branches of the Military\, with a vehicle or two\, booths and even activities for the kids. We hope you join us at the Hillsboro Fair Complex in August!  We will have the usual Blue Grass Band\, DJ\, Huey helicopter landing\, Motorcycles\, and Vintage Military Vehicles from the\nMVCCO.  See the attached flyer for details.  I will also be calling the recruiting offices to discuss the Show.
URL:http://www.voiture-99.com/event/7th-annual-salute-to-veterans-car-motorcycle-show/
LOCATION:Washington County Fair Complex\, 873 NE 34th Avenue\, Hillsboro\, OR\, 97214\, United States
CATEGORIES:Americanism,Car Show,Community Event,Community Service,Fundraiser
END:VEVENT
BEGIN:VEVENT
DTSTART;TZID=America/Los_Angeles:20180804T100000
DTEND;TZID=America/Los_Angeles:20180804T140000
DTSTAMP:20260423T053953
CREATED:20180726T130828Z
LAST-MODIFIED:20180728T101935Z
UID:3200-1533376800-1533391200@www.voiture-99.com
SUMMARY:Paralyzed Veterans of America Show and Shine Car Show
DESCRIPTION:
URL:http://www.voiture-99.com/event/p-paralyzed-veterans-of-america-show-and-shine-car-show/
LOCATION:Home Depot – Salem\, 3795 Hagers Grove Rd. SE\, Salem\, OR\, 97317\, United States
CATEGORIES:Americanism,Car Show,Community Event,Community Service,Fundraiser,Remembrance and Appreciation,Veterans Event
END:VEVENT
BEGIN:VEVENT
DTSTART;TZID=America/Los_Angeles:20180623T150000
DTEND;TZID=America/Los_Angeles:20180623T190000
DTSTAMP:20260423T053953
CREATED:20180502T173203Z
LAST-MODIFIED:20180607T151555Z
UID:2931-1529766000-1529780400@www.voiture-99.com
SUMMARY:Heroes Night - 2018
DESCRIPTION:Community Military Appreciation Committee’s “Heroes Night” Celebration\nThe Community Military Appreciation Committee (CMAC) presents our fifth annual Southwest Washington “Heroes Night” celebration. Join us Saturday\, June 23\, 2018 at the East Vancouver Costco located at 19610 SE 1st St. (on the corner of SE 1st Street and 192nd Avenue). The event will kick off with a car show starting at 3:00 PM hosted by the NW Corvette Club\, then continue inside Costco from 4:00 to 7:00 PM. Like last year\, we will have a vintage aircraft flyover kicking off the event. \nAttendees will have the opportunity to learn more about and meet local heroes from various veteran and active military organizations\, firefighters\, EMT’s\, Police\, the Clark County Sheriff’s Office\, our Northwest “Battle Buddies” (trained service dogs)\, “War Horses with Warriors” with one or more of their therapeutic riding horses\, and their veteran companions\, to name a few. \nThere will be one night only specials\, door prizes\, kids’ activities\, food and more. Plus\, sponsors will be on hand giving out Costco Memberships to the community.  Some of the door prizes available are a 65″ TV\, Patio Set\, Traeger grill\, Tommy Bahama Cooler\, and Patio Swing.  FireHouse Subs will be giving away free mini-subs and the Fire and Ice Food Cart will be on hand and donating a portion of the proceeds to CMAC. \nEveryone is welcome\, no Costco Membership is needed to shop during the event! \nClick on either image to enlarge.  \nA car show featuring both classic and modern cars\, trucks and motorcycles\, music along with food from Firehouse Subs will kick off at 3:00 pm. Some unique attendees will include vintage military vehicles and the 40 et 8’s “Loci” that is a regular in our community’s various parades. \nBetween 4-4:30 PM\, three vintage aircraft (biplanes) will do a flyover to kick off the event. \nThis marks our second year giving out the “Bill Morehouse Community Service Award\,” in honor of our beloved “Buffalo Soldiers.” This award honors first responders who go “above and beyond” in their selfless contributions to the nearly half million citizens of this region both on and off the job.  We will be highlighting two of our local First Responders\, VPD Officer Julie Ballou and CCSO Deputy Albin Boyse\, for their “Above and Beyond” work with area youth through the Police Activities League.  “Bill Morehouse Community Service Awards” will also be presented to three of CMAC’s own: Julie Berger and James Mead. \nWe will also be recognizing our very own “Rosie the Riveter\,”.  This year\, on the 100th Anniversary of the end of World War I\, we are honoring Vancouver’s own “Rosie the Riveter” Priscilla Elizabeth Messinger.  While representing one of our Second World War Heroines\, let us not forget those women who also supported and sacrificed in the “War to End All Wars.” \nProceeds from the event will benefit CMAC\, which is an all-inclusive organization reflecting a diverse cross-section of our community focused on serving Gold Star Moms/Families\, homeless vets\, and those whose needs are not otherwise being met. CMAC includes youth\, active/reserve military\, and various veterans groups. CMAC also plans and executes community-wide events\, such as Memorial Day\, Veterans Day\, “Our Community Salutes\,” and POW/MIA Day ceremonies\, as well as recognition/support of military families of all services. Learn more about CMAC at www.cmac11.com. \n 
URL:http://www.voiture-99.com/event/heroes-night-at-costco/
LOCATION:East Vancouver Costco\, 19610 SE 1St Street \, Vancouver \, WA\,  98607 \, United States
CATEGORIES:Car Show,Community Event,Community Service,Fundraiser,Remembrance and Appreciation
END:VEVENT
BEGIN:VEVENT
DTSTART;TZID=America/Los_Angeles:20180427T073000
DTEND;TZID=America/Los_Angeles:20180427T090000
DTSTAMP:20260423T053953
CREATED:20170803T234855Z
LAST-MODIFIED:20180331T095538Z
UID:2266-1524814200-1524819600@www.voiture-99.com
SUMMARY:Members & Guest Breakfast
DESCRIPTION:Members & Guest Breakfast\nMenu: Breakfast off the Grill and eggs to order\n7:30 am to 9:00 am\nCost $8.00
URL:http://www.voiture-99.com/event/members-guest-breakfast-22/
LOCATION:Voiture 99 Chateau\, 2809 NE 78th Street\, Vancouver\, WA\, 98665-0637\, United States
CATEGORIES:Americanism,Car Show,Community Event,Community Service
END:VEVENT
BEGIN:VEVENT
DTSTART;TZID=America/Los_Angeles:20170929T073000
DTEND;TZID=America/Los_Angeles:20170929T090000
DTSTAMP:20260423T053953
CREATED:20170804T015721Z
LAST-MODIFIED:20170926T153121Z
UID:2288-1506670200-1506675600@www.voiture-99.com
SUMMARY:Members & Guest Breakfast
DESCRIPTION:Members & Guest Breakfast\nMenu: Breakfast off the Grill and eggs to order\n7:30 am to 9:00 am\nCost $8.00
URL:http://www.voiture-99.com/event/members-guest-breakfast-29/
LOCATION:Voiture 99 Chateau\, 2809 NE 78th Street\, Vancouver\, WA\, 98665-0637\, United States
CATEGORIES:Americanism,Car Show,Community Event,Community Service
END:VEVENT
BEGIN:VEVENT
DTSTART;TZID=America/Los_Angeles:20170922T073000
DTEND;TZID=America/Los_Angeles:20170922T090000
DTSTAMP:20260423T053953
CREATED:20170804T015259Z
LAST-MODIFIED:20170804T015259Z
UID:2286-1506065400-1506070800@www.voiture-99.com
SUMMARY:Members & Guest Breakfast
DESCRIPTION:Members & Guest Breakfast\nMenu: Breakfast off the Grill and eggs to order\n7:30 am to 9:00 am\nCost $8.00
URL:http://www.voiture-99.com/event/members-guest-breakfast-28/
LOCATION:Voiture 99 Chateau\, 2809 NE 78th Street\, Vancouver\, WA\, 98665-0637\, United States
CATEGORIES:Americanism,Car Show,Community Event,Community Service
END:VEVENT
BEGIN:VEVENT
DTSTART;TZID=America/Los_Angeles:20170915T073000
DTEND;TZID=America/Los_Angeles:20170915T090000
DTSTAMP:20260423T053953
CREATED:20170804T014412Z
LAST-MODIFIED:20170804T014412Z
UID:2282-1505460600-1505466000@www.voiture-99.com
SUMMARY:Members & Guest Breakfast
DESCRIPTION:Members & Guest Breakfast\nMenu: Breakfast off the Grill and eggs to order\n7:30 am to 9:00 am\nCost $8.00
URL:http://www.voiture-99.com/event/members-guest-breakfast-26/
LOCATION:Voiture 99 Chateau\, 2809 NE 78th Street\, Vancouver\, WA\, 98665-0637\, United States
CATEGORIES:Americanism,Car Show,Community Event,Community Service
END:VEVENT
BEGIN:VEVENT
DTSTART;TZID=America/Los_Angeles:20170908T073000
DTEND;TZID=America/Los_Angeles:20170908T090000
DTSTAMP:20260423T053953
CREATED:20170804T013945Z
LAST-MODIFIED:20170804T013945Z
UID:2280-1504855800-1504861200@www.voiture-99.com
SUMMARY:Members & Guest Breakfast
DESCRIPTION:Members & Guest Breakfast\nMenu: Breakfast off the Grill and eggs to order\n7:30 am to 9:00 am\nCost $8.00
URL:http://www.voiture-99.com/event/members-guest-breakfast-25/
LOCATION:Voiture 99 Chateau\, 2809 NE 78th Street\, Vancouver\, WA\, 98665-0637\, United States
CATEGORIES:Americanism,Car Show,Community Event,Community Service
END:VEVENT
BEGIN:VEVENT
DTSTART;TZID=America/Los_Angeles:20170906T160000
DTEND;TZID=America/Los_Angeles:20170906T200000
DTSTAMP:20260423T053953
CREATED:20170803T231712Z
LAST-MODIFIED:20170803T231712Z
UID:2259-1504713600-1504728000@www.voiture-99.com
SUMMARY:Loci to the Beaches Car Show
DESCRIPTION:Ride the Loci to the Beaches Car Show at PIR. If you ride over on the Loci you get free admission to the event.  If you’re interested in riding contact Jim Resleff for the exact time to meet before leaving. \nFor more information on the Cruise-In click here.   \nGo to Beaches Restaurant Website here.
URL:http://www.voiture-99.com/event/loci-to-the-beaches-car-show-2/
LOCATION:Voiture 99 Chateau\, 2809 NE 78th Street\, Vancouver\, WA\, 98665-0637\, United States
CATEGORIES:Americanism,Car Show,Community Event,Community Service
END:VEVENT
END:VCALENDAR