BEGIN:VCALENDAR
VERSION:2.0
PRODID:-//Voiture Locale 99 - ECPv6.15.20//NONSGML v1.0//EN
CALSCALE:GREGORIAN
METHOD:PUBLISH
X-WR-CALNAME:Voiture Locale 99
X-ORIGINAL-URL:http://www.voiture-99.com
X-WR-CALDESC:Events for Voiture Locale 99
REFRESH-INTERVAL;VALUE=DURATION:PT1H
X-Robots-Tag:noindex
X-PUBLISHED-TTL:PT1H
BEGIN:VTIMEZONE
TZID:America/Los_Angeles
BEGIN:DAYLIGHT
TZOFFSETFROM:-0800
TZOFFSETTO:-0700
TZNAME:PDT
DTSTART:20170312T100000
END:DAYLIGHT
BEGIN:STANDARD
TZOFFSETFROM:-0700
TZOFFSETTO:-0800
TZNAME:PST
DTSTART:20171105T090000
END:STANDARD
BEGIN:DAYLIGHT
TZOFFSETFROM:-0800
TZOFFSETTO:-0700
TZNAME:PDT
DTSTART:20180311T100000
END:DAYLIGHT
BEGIN:STANDARD
TZOFFSETFROM:-0700
TZOFFSETTO:-0800
TZNAME:PST
DTSTART:20181104T090000
END:STANDARD
BEGIN:DAYLIGHT
TZOFFSETFROM:-0800
TZOFFSETTO:-0700
TZNAME:PDT
DTSTART:20190310T100000
END:DAYLIGHT
BEGIN:STANDARD
TZOFFSETFROM:-0700
TZOFFSETTO:-0800
TZNAME:PST
DTSTART:20191103T090000
END:STANDARD
BEGIN:DAYLIGHT
TZOFFSETFROM:-0800
TZOFFSETTO:-0700
TZNAME:PDT
DTSTART:20200308T100000
END:DAYLIGHT
BEGIN:STANDARD
TZOFFSETFROM:-0700
TZOFFSETTO:-0800
TZNAME:PST
DTSTART:20201101T090000
END:STANDARD
BEGIN:DAYLIGHT
TZOFFSETFROM:-0800
TZOFFSETTO:-0700
TZNAME:PDT
DTSTART:20210314T100000
END:DAYLIGHT
BEGIN:STANDARD
TZOFFSETFROM:-0700
TZOFFSETTO:-0800
TZNAME:PST
DTSTART:20211107T090000
END:STANDARD
END:VTIMEZONE
BEGIN:VEVENT
DTSTART;TZID=America/Los_Angeles:20200308T150000
DTEND;TZID=America/Los_Angeles:20200308T180000
DTSTAMP:20260421T105321
CREATED:20200205T083615Z
LAST-MODIFIED:20200205T085105Z
UID:4772-1583679600-1583690400@www.voiture-99.com
SUMMARY:40 et 8 Bingo March Big Money Night
DESCRIPTION:
URL:http://www.voiture-99.com/event/40-et-8-bingo-march-big-money-night/
CATEGORIES:Americanism,Bingo,Community Event,Entertainment
ORGANIZER;CN="40 et 8 Bingo":MAILTO:nicole.hawkins@40et8bingo.org
END:VEVENT
BEGIN:VEVENT
DTSTART;TZID=America/Los_Angeles:20200214T183000
DTEND;TZID=America/Los_Angeles:20200214T210000
DTSTAMP:20260421T105321
CREATED:20200213T101908Z
LAST-MODIFIED:20200213T101908Z
UID:4786-1581705000-1581714000@www.voiture-99.com
SUMMARY:Special Valentines Day Bingo Session @ 40 et 8 Bingo
DESCRIPTION:Doors open at 5:00 pm\nSession Played at 6:30 pm
URL:http://www.voiture-99.com/event/special-valentines-day-bingo-session-40-et-8-bingo/
CATEGORIES:Bingo,Entertainment,Fundraiser,Remembrance and Appreciation
ORGANIZER;CN="40 et 8 Bingo":MAILTO:nicole.hawkins@40et8bingo.org
END:VEVENT
BEGIN:VEVENT
DTSTART;TZID=America/Los_Angeles:20200201T183000
DTEND;TZID=America/Los_Angeles:20200201T210000
DTSTAMP:20260421T105321
CREATED:20200108T203946Z
LAST-MODIFIED:20200109T210254Z
UID:4702-1580581800-1580590800@www.voiture-99.com
SUMMARY:February Big Money Night at the Bingo Parlor
DESCRIPTION:Information coming soon.
URL:http://www.voiture-99.com/event/february-big-money-night-at-the-bingo-parlor/
CATEGORIES:Bingo,Entertainment,Fundraiser
ORGANIZER;CN="40 et 8 Bingo":MAILTO:nicole.hawkins@40et8bingo.org
END:VEVENT
BEGIN:VEVENT
DTSTART;VALUE=DATE:20190704
DTEND;VALUE=DATE:20190705
DTSTAMP:20260421T105321
CREATED:20190619T201229Z
LAST-MODIFIED:20190619T201229Z
UID:4027-1562198400-1562284799@www.voiture-99.com
SUMMARY:Bingo Hall Closed
DESCRIPTION:
URL:http://www.voiture-99.com/event/bingo-hall-closed/
CATEGORIES:Bingo,Community Event,Community Service
END:VEVENT
BEGIN:VEVENT
DTSTART;TZID=America/Los_Angeles:20190505T150000
DTEND;TZID=America/Los_Angeles:20190505T180000
DTSTAMP:20260421T105321
CREATED:20190424T010509Z
LAST-MODIFIED:20190424T010509Z
UID:3864-1557068400-1557079200@www.voiture-99.com
SUMMARY:Cinco de Mayo - Big Money Night at 40 et 8 Bingo
DESCRIPTION:Sunday\, May 5th\, 3:00 pm\n(Doors open at 1:00 pm) \n$25 for the first packet\, $10 each additional\, paying $1000\n4- $1199 Blackouts\nPick 8 & Bonanza guaranteed $500 \nEnchilada dinner\, pre-bingo games and giveaways included with buy-in\n(1:00 pm-2:30 pm or while it lasts!) \nONE SESSION ONLY! \nWe have reserved seating with a machine available for a non refundable $20 donation to our 40 et 8 programs.\nCome in and ask for a manager. We will get you your favorite spot!
URL:http://www.voiture-99.com/event/cinco-de-mayo-big-money-night-at-40-et-8-bingo/
CATEGORIES:Americanism,Bingo,Community Event,Community Service,Remembrance and Appreciation
END:VEVENT
BEGIN:VEVENT
DTSTART;TZID=America/Los_Angeles:20190406T183000
DTEND;TZID=America/Los_Angeles:20190406T210000
DTSTAMP:20260421T105321
CREATED:20190330T031011Z
LAST-MODIFIED:20190330T031011Z
UID:3810-1554575400-1554584400@www.voiture-99.com
SUMMARY:Bingo Big Money Night - "Luau Celebration"
DESCRIPTION:
URL:http://www.voiture-99.com/event/bingo-big-money-night-luau-celebration/
CATEGORIES:Americanism,Bingo,Community Event,Community Service,Remembrance and Appreciation
ORGANIZER;CN="40 et 8 Bingo":MAILTO:nicole.hawkins@40et8bingo.org
END:VEVENT
BEGIN:VEVENT
DTSTART;TZID=America/Los_Angeles:20181103T183000
DTEND;TZID=America/Los_Angeles:20181103T213000
DTSTAMP:20260421T105321
CREATED:20181015T043332Z
LAST-MODIFIED:20181015T043332Z
UID:3344-1541269800-1541280600@www.voiture-99.com
SUMMARY:Big Money Night!!!  $1000.00 Bingos
DESCRIPTION:
URL:http://www.voiture-99.com/event/big-money-night-1000-00-bingos/
CATEGORIES:Bingo,Community Event,Remembrance and Appreciation
END:VEVENT
END:VCALENDAR